BEGIN:VCALENDAR
VERSION:2.0
PRODID:-//FinanceEstonia //NONSGML Events //EN
CALSCALE:GREGORIAN
X-WR-CALNAME:FinanceEstonia
BEGIN:VEVENT
CREATED:20191009T112328Z
UID:9815
DTEND;TZID=Europe/Tallinn:20260422T133346
DTSTART;TZID=Europe/Tallinn:20260422T133346
DTSTAMP;TZID=Europe/Tallinn:20260422T103346
LOCATION:
DESCRIPTION:Kohtumise teemaks on kavandatav pensionireform. Osalevad LHV Varahaldus, Swedbanki Investeerimisfondid, pensionifondidest rahastust saanud Eesti ettevõtjad, Kredexi ja EBRD esindajad.
SUMMARY:Kohtumine rahanduskomisjoniga
URL;VALUE=URI:https://financeestonia.eu/sundmus/kohtumine-rahanduskomisjoniga/
TRANSP:OPAQUE
BEGIN:VALARM
ACTION:DISPLAY
TRIGGER;TZID=Europe/Tallinn:19691231T000000
DESCRIPTION:Reminder for Kohtumine rahanduskomisjoniga
END:VALARM
END:VEVENT
END:VCALENDAR
