BEGIN:VCALENDAR
VERSION:2.0
PRODID:-//FinanceEstonia //NONSGML Events //EN
CALSCALE:GREGORIAN
X-WR-CALNAME:FinanceEstonia
BEGIN:VEVENT
CREATED:20190829T121854Z
UID:9734
DTEND;TZID=Europe/Tallinn:20260421T124607
DTSTART;TZID=Europe/Tallinn:20260421T124607
DTSTAMP;TZID=Europe/Tallinn:20260421T094607
LOCATION:
DESCRIPTION:
SUMMARY:Kohtumine Rahandusministeeriumiga
URL;VALUE=URI:https://financeestonia.eu/sundmus/kohtumine-rahandusministeeriumiga-2/
TRANSP:OPAQUE
BEGIN:VALARM
ACTION:DISPLAY
TRIGGER;TZID=Europe/Tallinn:19691231T000000
DESCRIPTION:Reminder for Kohtumine Rahandusministeeriumiga
END:VALARM
END:VEVENT
END:VCALENDAR
