BEGIN:VCALENDAR
VERSION:2.0
PRODID:-//FinanceEstonia //NONSGML Events //EN
CALSCALE:GREGORIAN
X-WR-CALNAME:FinanceEstonia
BEGIN:VEVENT
CREATED:20190523T130425Z
UID:9491
DTEND;TZID=Europe/Tallinn:20260421T124919
DTSTART;TZID=Europe/Tallinn:20260421T124919
DTSTAMP;TZID=Europe/Tallinn:20260421T094919
LOCATION:
DESCRIPTION:Kogumispensioni töögrupi esimene koosolek toimub kolmapäeval, &lt;strong&gt;29.mail kell 10:30-12:00 Swedbankis&lt;/strong&gt;, Liivalaia 12 (keskmine maja), korrus 9. &lt;strong&gt;Esimese koosoleku päevakava:&lt;/strong&gt;
&lt;ul&gt; &lt;li&gt;Töögrupi tegevussuundade tutvustamine&lt;/li&gt; &lt;li&gt;Töögrupi juhi valimine - kandideerimiseks on andnud nõusoleku Kristjan Tamla, Swedbank Investeerimisfondide juht&lt;/li&gt; &lt;li&gt;Töögrupi tegevuste planeerimine seoses planeeritava II samba reformiga.&lt;/li&gt;
&lt;/ul&gt;
&lt;strong&gt;Palun registreeruge &lt;/strong&gt;&lt;strong&gt;&lt;a href=&quot;https://forms.gle/ewyr44s5wBq59rN26&quot;&gt;SIIN&lt;/a&gt;&lt;/strong&gt;&lt;strong&gt;.&lt;/strong&gt;  
SUMMARY:Kogumispensioni töögrupi koosolek
URL;VALUE=URI:https://financeestonia.eu/sundmus/kogumispensioni-toogrupi-koosolek/
TRANSP:OPAQUE
BEGIN:VALARM
ACTION:DISPLAY
TRIGGER;TZID=Europe/Tallinn:19691231T000000
DESCRIPTION:Reminder for Kogumispensioni töögrupi koosolek
END:VALARM
END:VEVENT
END:VCALENDAR
