BEGIN:VCALENDAR
VERSION:2.0
PRODID:-//FinanceEstonia //NONSGML Events //EN
CALSCALE:GREGORIAN
X-WR-CALNAME:FinanceEstonia
BEGIN:VEVENT
CREATED:20190408T070230Z
UID:9299
DTEND;TZID=Europe/Tallinn:20260423T003424
DTSTART;TZID=Europe/Tallinn:20260423T003424
DTSTAMP;TZID=Europe/Tallinn:20260422T213424
LOCATION:
DESCRIPTION:Päevakava:
&lt;ol&gt; &lt;li&gt;Kas ja kuidas loome sektoripõhise riskihinnangu?&lt;/li&gt; &lt;li&gt;Teemad FI/RABi ümarlauaks.&lt;/li&gt;
&lt;/ol&gt;
SUMMARY:Kohtumine RahaPTS teemadel
URL;VALUE=URI:https://financeestonia.eu/sundmus/kohtumine-rahapts-teemadel/
TRANSP:OPAQUE
BEGIN:VALARM
ACTION:DISPLAY
TRIGGER;TZID=Europe/Tallinn:19691231T000000
DESCRIPTION:Reminder for Kohtumine RahaPTS teemadel
END:VALARM
END:VEVENT
END:VCALENDAR
