BEGIN:VCALENDAR
VERSION:2.0
PRODID:-//FinanceEstonia //NONSGML Events //EN
CALSCALE:GREGORIAN
X-WR-CALNAME:FinanceEstonia
BEGIN:VEVENT
CREATED:20190110T183014Z
UID:8949
DTEND;TZID=Europe/Tallinn:20260423T045514
DTSTART;TZID=Europe/Tallinn:20260423T045514
DTSTAMP;TZID=Europe/Tallinn:20260423T015514
LOCATION:
DESCRIPTION:EY kutsub koostöös Rahandusministeeriumiga kokku kohtumise eesmärgiga arutleda väljatöötatud füüsiliste isikute finantskohustuste andmevahetusmudelite alternatiivide üle. EY on viinud läbi intervjuusid krediidiasutuste, KAV-ide, HLÜ-de, esindusorganisatsioonide, krediidibüroode ja riigiasutuste esindajatega, samuti veebiküsitluse krediidiasutuste, KAV-ide ja HLÜ-de seas. Kohtumisel tutvustatakse intervjuude ja küsitluse tulemusi ning analüüsitud andmevahetusmudelite alternatiive, samuti on võimalus kaasa rääkida alternatiivide plusside ja miinuste osas. Analüüsi käigus on tuvastatud vajadus kehtestada kohustus hakata vastutustundliku laenamise paremaks tagamiseks positiivset krediidiinfot turuosaliste (eelkõige krediidiasutused ja KAV-id) vahel jagama.  
SUMMARY:Füüsiliste isikute finantskohustuste andmevahetusmudelid – valideerimisseminar
URL;VALUE=URI:https://financeestonia.eu/sundmus/fuusiliste-isikute-finantskohustuste-andmevahetusmudelid-valideerimisseminar/
TRANSP:OPAQUE
BEGIN:VALARM
ACTION:DISPLAY
TRIGGER;TZID=Europe/Tallinn:19691231T000000
DESCRIPTION:Reminder for Füüsiliste isikute finantskohustuste andmevahetusmudelid – valideerimisseminar
END:VALARM
END:VEVENT
END:VCALENDAR
