BEGIN:VCALENDAR
VERSION:2.0
PRODID:-//FinanceEstonia //NONSGML Events //EN
CALSCALE:GREGORIAN
X-WR-CALNAME:FinanceEstonia
BEGIN:VEVENT
CREATED:20180919T214539Z
UID:8786
DTEND;TZID=Europe/Tallinn:20260423T053709
DTSTART;TZID=Europe/Tallinn:20260423T053709
DTSTAMP;TZID=Europe/Tallinn:20260423T023709
LOCATION:
DESCRIPTION:Meil on hea meel teatada, et alustame sügisel uue hooga! Kapitaliturgude töögrupi koosolek toimub &lt;strong&gt;3. oktoobril kell 10-12 Redgate Capitali &lt;/strong&gt;kontoris Pärnu mnt. 10, 3. korrus. Palun andke oma osalemisest teada &lt;a href=&quot;https://goo.gl/forms/NYL44quee3jpNNRu1&quot;&gt;&lt;strong&gt;SIIN&lt;/strong&gt;&lt;/a&gt; &lt;strong&gt;Päevakava:&lt;/strong&gt;
&lt;ol&gt; &lt;li&gt;EBRD kapitaliturgude diagnostika tulemused, kuidas edasi?&lt;strong&gt; &lt;/strong&gt;&lt;strong&gt;Kaarel Ots, Nasdaq Eesti&lt;/strong&gt;&lt;/li&gt; &lt;li&gt;Rahandusministeeriumi prospekti juhendi muutmine, &lt;strong&gt;Ardo-Heiki Ingar, RM&lt;/strong&gt;&lt;/li&gt; &lt;li&gt;Prospektilävendi suurendamine 2,5 meur kuni 8 meur- arutelu ning otsus, &lt;strong&gt;Aare Tammemäe, FE&lt;/strong&gt;&lt;/li&gt; &lt;li&gt;Pensionifondide tasude muudatuste eelnõu. Mis saab edasi? &lt;strong&gt;Mihkel Oja, LHV&lt;/strong&gt;&lt;/li&gt; &lt;li&gt;Balti CSD hetkeseis ja väljakutsed, e&lt;strong&gt;sineja täpsustamisel&lt;/strong&gt;&lt;/li&gt; &lt;li&gt;Sisend poliitikute debatile, &lt;strong&gt;Aare Tammemäe, FE&lt;/strong&gt;&lt;/li&gt; &lt;li&gt;Muud teemad&lt;/li&gt;
&lt;/ol&gt;
FE korraldab sügisel poliitikute debati, kuhu on kutsutud erakondade esindajad tutvustama oma seisukohti Eesti majanduse ja rahanduse võtmeküsimustes. Rõhuasetus on FinanceEstonia fookusvaldkondadel. Ürituse sisukaks läbiviimiseks ootame kõigilt töögruppidelt sisendit teemade osas. Eesmärk on, et iga töögrupp pakub välja 2 olulisemat teemat, mida poliitikutele väitlemiseks esitada. Seepärast palume kõigile kodutööna mõelda, millised teemad võiksid arutlemisele tulla. Koosolekul proovime leida ühised teemad, mida poliitikutele edastada.  
SUMMARY:Kapitaliturgude töögrupi koosolek
URL;VALUE=URI:https://financeestonia.eu/sundmus/kapitaliturgude-toogrupi-koosolek-3/
TRANSP:OPAQUE
BEGIN:VALARM
ACTION:DISPLAY
TRIGGER;TZID=Europe/Tallinn:19691231T000000
DESCRIPTION:Reminder for Kapitaliturgude töögrupi koosolek
END:VALARM
END:VEVENT
END:VCALENDAR
