BEGIN:VCALENDAR
VERSION:2.0
PRODID:-//FinanceEstonia //NONSGML Events //EN
CALSCALE:GREGORIAN
X-WR-CALNAME:FinanceEstonia
BEGIN:VEVENT
CREATED:20180420T143131Z
UID:8194
DTEND;TZID=Europe/Tallinn:20260422T214147
DTSTART;TZID=Europe/Tallinn:20260422T214147
DTSTAMP;TZID=Europe/Tallinn:20260422T184147
LOCATION:
DESCRIPTION:FinanceEstonia poliitikasoovituste tutvustus.
SUMMARY:Kohtumine Keskerakonnaga
URL;VALUE=URI:https://financeestonia.eu/sundmus/kohtumine-keskerakonnaga/
TRANSP:OPAQUE
BEGIN:VALARM
ACTION:DISPLAY
TRIGGER;TZID=Europe/Tallinn:19691231T000000
DESCRIPTION:Reminder for Kohtumine Keskerakonnaga
END:VALARM
END:VEVENT
END:VCALENDAR
