BEGIN:VCALENDAR
VERSION:2.0
PRODID:-//FinanceEstonia //NONSGML Events //EN
CALSCALE:GREGORIAN
X-WR-CALNAME:FinanceEstonia
BEGIN:VEVENT
CREATED:20180411T073209Z
UID:8173
DTEND;TZID=Europe/Tallinn:20260421T113628
DTSTART;TZID=Europe/Tallinn:20260421T113628
DTSTAMP;TZID=Europe/Tallinn:20260421T083628
LOCATION:
DESCRIPTION:&lt;div class=&quot;&quot;&gt;
&lt;div class=&quot;WordSection1&quot;&gt;
&lt;div class=&quot;&quot;&gt;
&lt;div class=&quot;&quot;&gt;
&lt;div class=&quot;&quot;&gt;
&lt;div class=&quot;&quot;&gt;
&lt;div class=&quot;&quot;&gt;
&lt;div class=&quot;&quot;&gt;
&lt;div class=&quot;&quot;&gt;
&lt;div class=&quot;&quot;&gt;
&lt;div class=&quot;&quot;&gt;&lt;span class=&quot;&quot;&gt;Päevakavas on e-lahendused avalikus sektoris.&lt;/span&gt;&lt;/div&gt;
&lt;/div&gt;
&lt;/div&gt;
&lt;/div&gt;
&lt;/div&gt;
&lt;/div&gt;
&lt;/div&gt;
&lt;/div&gt;
&lt;/div&gt;
&lt;/div&gt;
&lt;/div&gt;
&lt;div class=&quot;&quot;&gt;
&lt;div class=&quot;WordSection1&quot;&gt;
&lt;div class=&quot;&quot;&gt;
&lt;div class=&quot;&quot;&gt;
&lt;div class=&quot;&quot;&gt;
&lt;div class=&quot;&quot;&gt;
&lt;div class=&quot;&quot;&gt;
&lt;div class=&quot;&quot;&gt;
&lt;div class=&quot;&quot;&gt;
&lt;div class=&quot;&quot;&gt;
&lt;div class=&quot;&quot;&gt;&lt;span class=&quot;&quot;&gt; &lt;/span&gt;&lt;/div&gt;
&lt;/div&gt;
&lt;/div&gt;
&lt;/div&gt;
&lt;/div&gt;
&lt;/div&gt;
&lt;/div&gt;
&lt;/div&gt;
&lt;/div&gt;
&lt;/div&gt;
&lt;/div&gt;
&lt;div class=&quot;&quot;&gt;
&lt;div class=&quot;WordSection1&quot;&gt;
&lt;div class=&quot;&quot;&gt;
&lt;div class=&quot;&quot;&gt;
&lt;div class=&quot;&quot;&gt;
&lt;div class=&quot;&quot;&gt;
&lt;div class=&quot;&quot;&gt;
&lt;div class=&quot;&quot;&gt;
&lt;div class=&quot;&quot;&gt;&lt;span class=&quot;&quot;&gt;Ühe teemana tutvustab FinanceEstonia kuidas e-riik mõjub transformatsioonile ja &lt;a href=&quot;https://synthroidnews.net/graves-disease.html&quot; style=&quot;color:inherit;text-decoration:inherit;&quot;&gt;graves disease&lt;/a&gt; finantsvaldkonnas.&lt;/span&gt;&lt;/div&gt;
&lt;/div&gt;
&lt;/div&gt;
&lt;/div&gt;
&lt;/div&gt;
&lt;/div&gt;
&lt;/div&gt;
&lt;/div&gt;
&lt;/div&gt;
SUMMARY:Hanken School of Economics
URL;VALUE=URI:https://financeestonia.eu/sundmus/hanken-school-economics/
TRANSP:OPAQUE
BEGIN:VALARM
ACTION:DISPLAY
TRIGGER;TZID=Europe/Tallinn:19691231T000000
DESCRIPTION:Reminder for Hanken School of Economics
END:VALARM
END:VEVENT
END:VCALENDAR
