BEGIN:VCALENDAR
VERSION:2.0
PRODID:-//FinanceEstonia //NONSGML Events //EN
CALSCALE:GREGORIAN
X-WR-CALNAME:FinanceEstonia
BEGIN:VEVENT
CREATED:20180122T231038Z
UID:7818
DTEND;TZID=Europe/Tallinn:20260422T215120
DTSTART;TZID=Europe/Tallinn:20260422T215120
DTSTAMP;TZID=Europe/Tallinn:20260422T185120
LOCATION:
DESCRIPTION:&lt;div&gt;Mitmete turuosaliste eestvedamisel sai koostatud märgukiri reklaamiseaduse ja -juhendi rakendamise probleemidest. Tõstatatud teemade taustal oleme FI ja TKA-ga leppinud kokku ühise ümarlaua &lt;b&gt;25.01 kell 12-13:30&lt;/b&gt; FI ruumides. Kuna ruumi on piiratult, siis palun igast huvitatud ettevõttest vaid 1 inimene ning koha saame tagada esimesele 10 huvilisele.&lt;/div&gt;
&lt;div&gt;&lt;/div&gt;
SUMMARY:Reklaamiseaduse teemaline ümarlaud
URL;VALUE=URI:https://financeestonia.eu/sundmus/reklaamiseaduse-teemaline-umarlaud/
TRANSP:OPAQUE
BEGIN:VALARM
ACTION:DISPLAY
TRIGGER;TZID=Europe/Tallinn:19691231T000000
DESCRIPTION:Reminder for Reklaamiseaduse teemaline ümarlaud
END:VALARM
END:VEVENT
END:VCALENDAR
