BEGIN:VCALENDAR
VERSION:2.0
PRODID:-//FinanceEstonia //NONSGML Events //EN
CALSCALE:GREGORIAN
X-WR-CALNAME:FinanceEstonia
BEGIN:VEVENT
CREATED:20171129T105904Z
UID:7734
DTEND;TZID=Europe/Tallinn:20260422T220733
DTSTART;TZID=Europe/Tallinn:20260422T220733
DTSTAMP;TZID=Europe/Tallinn:20260422T190733
LOCATION:
DESCRIPTION:Reklaamiseaduse piirangud ja koostöö nende vähendamiseks.
SUMMARY:Kohtumine Eesti Turunduskommunikatsiooni Agentuuride Liiduga
URL;VALUE=URI:https://financeestonia.eu/sundmus/kohtumine-eesti-turunduskommunikatsiooni-agentuuride-liiduga/
TRANSP:OPAQUE
BEGIN:VALARM
ACTION:DISPLAY
TRIGGER;TZID=Europe/Tallinn:19691231T000000
DESCRIPTION:Reminder for Kohtumine Eesti Turunduskommunikatsiooni Agentuuride Liiduga
END:VALARM
END:VEVENT
END:VCALENDAR
