BEGIN:VCALENDAR
VERSION:2.0
PRODID:-//FinanceEstonia //NONSGML Events //EN
CALSCALE:GREGORIAN
X-WR-CALNAME:FinanceEstonia
BEGIN:VEVENT
CREATED:20170815T084446Z
UID:7315
DTEND;TZID=Europe/Tallinn:20260421T112255
DTSTART;TZID=Europe/Tallinn:20260421T112255
DTSTAMP;TZID=Europe/Tallinn:20260421T082255
LOCATION:
DESCRIPTION:
SUMMARY:FE juhatuse koosolek
URL;VALUE=URI:https://financeestonia.eu/sundmus/fe-juhatuse-koosolek-11/
TRANSP:OPAQUE
BEGIN:VALARM
ACTION:DISPLAY
TRIGGER;TZID=Europe/Tallinn:19691231T000000
DESCRIPTION:Reminder for FE juhatuse koosolek
END:VALARM
END:VEVENT
END:VCALENDAR
