BEGIN:VCALENDAR
VERSION:2.0
PRODID:-//FinanceEstonia //NONSGML Events //EN
CALSCALE:GREGORIAN
X-WR-CALNAME:FinanceEstonia
BEGIN:VEVENT
CREATED:20170628T120952Z
UID:7269
DTEND;TZID=Europe/Tallinn:20260423T031658
DTSTART;TZID=Europe/Tallinn:20260423T031658
DTSTAMP;TZID=Europe/Tallinn:20260423T001658
LOCATION:
DESCRIPTION:FinanceEstonia kohtumine Kai Härmandi ja Indrek Niklusega.
SUMMARY:Kohtumine Justiitsministeeriumiga
URL;VALUE=URI:https://financeestonia.eu/sundmus/kohtumine-justiitsministeeriumiga-2/
TRANSP:OPAQUE
BEGIN:VALARM
ACTION:DISPLAY
TRIGGER;TZID=Europe/Tallinn:19691231T000000
DESCRIPTION:Reminder for Kohtumine Justiitsministeeriumiga
END:VALARM
END:VEVENT
END:VCALENDAR
