BEGIN:VCALENDAR
VERSION:2.0
PRODID:-//FinanceEstonia //NONSGML Events //EN
CALSCALE:GREGORIAN
X-WR-CALNAME:FinanceEstonia
BEGIN:VEVENT
CREATED:20170530T171130Z
UID:6926
DTEND;TZID=Europe/Tallinn:20260421T095244
DTSTART;TZID=Europe/Tallinn:20260421T095244
DTSTAMP;TZID=Europe/Tallinn:20260421T065244
LOCATION:
DESCRIPTION:Costanza Bufalini – Head of European and Regulatory Affairs – Unicredit Tim Farrar – Strategy Manager, Public Affairs - Nordea Michael Lever – Managing Director, Prudential – AFME Stefano Mazzocchi – Managing Director, Advocacy - AFME Tanguy van de Werve – Managing Director and Head of Brussels office, Advocacy - AFME  
SUMMARY:Kohtumine Association for Financial Markets in Europe esindajaga
URL;VALUE=URI:https://financeestonia.eu/sundmus/kohtumine-association-financial-markets-europe/
TRANSP:OPAQUE
BEGIN:VALARM
ACTION:DISPLAY
TRIGGER;TZID=Europe/Tallinn:19691231T000000
DESCRIPTION:Reminder for Kohtumine Association for Financial Markets in Europe esindajaga
END:VALARM
END:VEVENT
END:VCALENDAR
