BEGIN:VCALENDAR
VERSION:2.0
PRODID:-//FinanceEstonia //NONSGML Events //EN
CALSCALE:GREGORIAN
X-WR-CALNAME:FinanceEstonia
BEGIN:VEVENT
CREATED:20170526T082859Z
UID:6907
DTEND;TZID=Europe/Tallinn:20260421T112433
DTSTART;TZID=Europe/Tallinn:20260421T112433
DTSTAMP;TZID=Europe/Tallinn:20260421T082433
LOCATION:
DESCRIPTION:&lt;strong&gt;Börsilt ettevõtte kasvuks kütust juurde!&lt;/strong&gt; 21. sajandil pole börs ainult suurte ettevõtete jaoks. Kui oled ambitsioonikas ettevõtja ja soovid ettevõtte kasvuks raha kaasata, vallutada välisturge, viia ettevõtte juhtimine uuele tasemele või osa ettevõttest maha müüa, võib börs olla just sinu jaoks. Kui soovid täpsemalt teada, mida börs saab Sinu ettevõttele pakkuda, tule 31. mail kell 10 Nasdaq Tallinna börsi infohommikule (Tallinn, Tartu mnt 2, City Plaza 14. korrus). Lisaks saame kuulda Eesti tippnõustaja ülevaadet ettevõtte erinevatest rahastamisviisidest ja praeguse börsiettevõtte esindajat, kes räägib oma kogemusest ettevõtte börsile viimisel. Osalemine on kõigile huvilistele tasuta. Kuna kohtade arv on piiratud, palume osalemissoovist teada anda 26. maiks aadressil &lt;a href=&quot;mailto:tallinn@nasdaq.com&quot;&gt;tallinn@nasdaq.com&lt;/a&gt; või telefonil 640 8800. &lt;strong&gt;PROGRAMM&lt;/strong&gt; 10.00 – &lt;strong&gt;Mida börs ettevõtjale pakub?&lt;/strong&gt; / Kaarel Ots, Nasdaq Tallinna börs
10.45 – &lt;strong&gt;Ettevõtte rahastamise tööriistakast&lt;/strong&gt; / Ivars Bergmanis ja Daniel Haab, LHV Pank
11.30 – Kohvipaus
11.45 – &lt;strong&gt;Otseliin börsiettevõtte juhiga&lt;/strong&gt; / Andres Allikmäe, Harju Elekter
12.30 – Lõpp  
SUMMARY:Nasdaq Tallinna börsi infohommik ettevõtjatele
URL;VALUE=URI:https://financeestonia.eu/sundmus/nasdaq-tallinna-borsi-infohommik-ettevotjatele/
TRANSP:OPAQUE
BEGIN:VALARM
ACTION:DISPLAY
TRIGGER;TZID=Europe/Tallinn:19691231T000000
DESCRIPTION:Reminder for Nasdaq Tallinna börsi infohommik ettevõtjatele
END:VALARM
END:VEVENT
END:VCALENDAR
