BEGIN:VCALENDAR
VERSION:2.0
PRODID:-//FinanceEstonia //NONSGML Events //EN
CALSCALE:GREGORIAN
X-WR-CALNAME:FinanceEstonia
BEGIN:VEVENT
CREATED:20161206T125105Z
UID:6141
DTEND;TZID=Europe/Tallinn:20260422T133339
DTSTART;TZID=Europe/Tallinn:20260422T133339
DTSTAMP;TZID=Europe/Tallinn:20260422T103339
LOCATION:
DESCRIPTION:Päevakava:
&lt;ul&gt; &lt;li&gt;Toimumise aeg&lt;/li&gt; &lt;li&gt;Eesmärk&lt;/li&gt; &lt;li&gt;Potentsiaalsed teemad&lt;/li&gt; &lt;li&gt;Potentsiaalsed esinejad&lt;/li&gt; &lt;li&gt;Edasised tegevused&lt;/li&gt;
&lt;/ul&gt;
SUMMARY:FEIF 2017 korralduskomitee koosolek
URL;VALUE=URI:https://financeestonia.eu/sundmus/feif-2017-korralduskomitee-koosolek/
TRANSP:OPAQUE
BEGIN:VALARM
ACTION:DISPLAY
TRIGGER;TZID=Europe/Tallinn:19691231T000000
DESCRIPTION:Reminder for FEIF 2017 korralduskomitee koosolek
END:VALARM
END:VEVENT
END:VCALENDAR
