BEGIN:VCALENDAR
VERSION:2.0
PRODID:-//FinanceEstonia //NONSGML Events //EN
CALSCALE:GREGORIAN
X-WR-CALNAME:FinanceEstonia
BEGIN:VEVENT
CREATED:20160530T044941Z
UID:5681
DTEND;TZID=Europe/Tallinn:20260422T094025
DTSTART;TZID=Europe/Tallinn:20260422T094025
DTSTAMP;TZID=Europe/Tallinn:20260422T064025
LOCATION:
DESCRIPTION:&lt;div&gt;Töögrupi järgmine kohtumine toimub &lt;b&gt;8. juunil kell 10:00&lt;/b&gt; Raidla Ellexi büroos Roosikrantsi 2. Kohtumine on kahes osas.&lt;/div&gt;
&lt;div&gt;&lt;/div&gt;
&lt;div&gt;Alguses kohtume Maksuameti esindajatega. Maksuamet (MA) on ette valmistamas IT lahendusi, mis võimaldaks huvitatud osapooltel saada kas äripartnerite või laenuklientide analüüsiks andmeid, näiteks käibedeklaratsioone jms. masinloetaval kujul. Sel aastal tuleb n.ö. vahelahendus, aga aastal 2018 juba täisautomaatne ligipääs. Lisast leiate MA ettekanded. Koosoleku esimesse poolde kutsume ka FE fintech töörühma liikmed.&lt;/div&gt;
&lt;div&gt;&lt;/div&gt;
&lt;div&gt;Pärast MA esitlust toimub töörühma koosolek, kus on arutlusel 4 punkti (huvi korral lisame teemasid):&lt;/div&gt;
&lt;div&gt;
&lt;ul&gt; &lt;li&gt;Hea Tava lõpliku versiooni heakskiit – püüame enne koosolekut saata uue versiooni laiali lähtudes sel nädalal laekuvast tagasisidest.&lt;/li&gt; &lt;li&gt;Ülevaade reklaamiseaduse ja isiku distantsilt tuvastamise seaduse muudatuste edenemisest.&lt;/li&gt; &lt;li&gt;White paper struktuuri läbi arutamine ja kokkulepe, kes millist osa hakkab kokku panema&lt;/li&gt; &lt;li&gt;Arutelu sellest, kuidas läheneda nendele KAV-dele, kes ei ole veel FinanceEstoniaga ja hea tavaga liitunud, eesmärgiga kutsuda neid FE ja töörühma liikmeteks.&lt;/li&gt;
&lt;/ul&gt;
&lt;/div&gt;
SUMMARY:Krediidiandjate töögrupi koosolek
URL;VALUE=URI:https://financeestonia.eu/sundmus/krediidiandjate-toogrupi-koosolek/
TRANSP:OPAQUE
BEGIN:VALARM
ACTION:DISPLAY
TRIGGER;TZID=Europe/Tallinn:19691231T000000
DESCRIPTION:Reminder for Krediidiandjate töögrupi koosolek
END:VALARM
END:VEVENT
END:VCALENDAR
