BEGIN:VCALENDAR
VERSION:2.0
PRODID:-//FinanceEstonia //NONSGML Events //EN
CALSCALE:GREGORIAN
X-WR-CALNAME:FinanceEstonia
BEGIN:VEVENT
CREATED:20150528T113251Z
UID:4735
DTEND;TZID=Europe/Tallinn:20260422T150735
DTSTART;TZID=Europe/Tallinn:20260422T150735
DTSTAMP;TZID=Europe/Tallinn:20260422T120735
LOCATION:
DESCRIPTION:&lt;div&gt;Hea Euroopa Liidu ja välispoliitika huviline!&lt;/div&gt;
&lt;div&gt;&lt;/div&gt;
&lt;div&gt;Kutsume Teid teisipäeval, 2. juunil kl 14.30 ETVs toimuvale ingliskeelsele mõttevahetusele teemal &lt;b&gt;&quot;Euroopa majandus täna&quot;&lt;/b&gt; Euroopa Komisjoni asepresidendi &lt;b&gt;Jyrki Kataineni&lt;/b&gt; ja peaminister &lt;b&gt;Taavi Rõivase&lt;/b&gt; vahel.&lt;/div&gt;
&lt;div&gt;&lt;/div&gt;
&lt;div&gt;Uus Euroopa Komisjon soovib meie maailmajao majanduskasvu ergutada täiendavate investeeringute kaasamisega erasektorist ning energialiidu ja efektiivselt toimiva digituru loomisega. Debatil arutavad Taavi Rõivas ja Jyrki Katainen koos teiega, kuidas tugevdada Eesti ja Euroopa Liidu majandust olukorras, kus lisaks Euroopa enda majandusmuredele pidurdab välispoliitiline olukord Euroopa Liidu idapiiril just siinse regiooni majanduskasvu.&lt;/div&gt;
&lt;div&gt;&lt;/div&gt;
&lt;div&gt;Jyrki Katainen on Euroopa Komisjoni asepresident, kelle vastutusalaks on majanduskasv ning kes endise Soome peaministrina tunneb hästi meie regiooni olukorda.&lt;/div&gt;
&lt;div&gt;&lt;/div&gt;
&lt;div&gt;Ootame Teid 2. juunil kl 14.00 ETV 1. stuudios esimesel korrusel (sissepääs Gonsiori 27). Arutelu juhib ETV saatejuht Indrek Treufeldt. Ootame ka teie küsimusi, mida saab esitada registreerumisel aadressil &lt;a href=&quot;http://tinyurl.com/2015-06-02-arutelu&quot;&gt;&lt;span style=&quot;color: blue;&quot;&gt;&lt;span style=&quot;text-decoration: underline;&quot;&gt;http://tinyurl.com/2015-06-02-arutelu&lt;/span&gt;&lt;/span&gt;&lt;/a&gt;. Palume registreeruda neljapäevaks, 28. maiks.&lt;/div&gt;
&lt;div&gt;&lt;/div&gt;
&lt;div&gt;Arutelu käigus salvestatakse telesaade, mis läheb ETV eetrisse 4. juunil. Osalejatel palume kohale tulla kell 14.00, et ETV saaks publiku saali paigutada.&lt;/div&gt;
&lt;div&gt;&lt;/div&gt;
&lt;div&gt;Hannes Rumm
Euroopa Komisjoni Eesti esinduse juht&lt;/div&gt;
SUMMARY:Mõttevahetus “Euroopa majandus täna” Euroopa Komisjoni asepresidendi Jyrki Kataineni ja peaminister Taavi Rõivase vahel
URL;VALUE=URI:https://financeestonia.eu/sundmus/mottevahetuse-euroopa-majandus-tana-euroopa-komisjoni-asepresidendi-jyrki-kataineni-ja-peaminister-taavi-roivase-vahel/
TRANSP:OPAQUE
BEGIN:VALARM
ACTION:DISPLAY
TRIGGER;TZID=Europe/Tallinn:19691231T000000
DESCRIPTION:Reminder for Mõttevahetus “Euroopa majandus täna” Euroopa Komisjoni asepresidendi Jyrki Kataineni ja peaminister Taavi Rõivase vahel
END:VALARM
END:VEVENT
END:VCALENDAR
