BEGIN:VCALENDAR
VERSION:2.0
PRODID:-//FinanceEstonia //NONSGML Events //EN
CALSCALE:GREGORIAN
X-WR-CALNAME:FinanceEstonia
BEGIN:VEVENT
CREATED:20150210T001902Z
UID:4353
DTEND;TZID=Europe/Tallinn:20260422T201332
DTSTART;TZID=Europe/Tallinn:20260422T201332
DTSTAMP;TZID=Europe/Tallinn:20260422T171332
LOCATION:
DESCRIPTION:&lt;b&gt;Too oma teema Arvamusfestivalile 2015!&lt;/b&gt; Arvamusfestival sünnib Eestimaa inimeste mõtetest ja seisukohtadest. Sinu ja minu arvamustest. Kolmandat aastat järjest kerkib Paide Vallimäele 14.-15. augustil festivaliala ning pärismaastiku kohale tõuseb arvamusmaastik. Arvamusfestival on kohtumispaik ja mõttevahetuskoht Eesti ühiskonnale ja inimestele olulistel teemadel. Arutelude tulemusel saavad alguse uued ideed, ühiskonna jaoks kasulikud ettevõtmised ja areneb arutelu- ning suhtluskultuur Eestis. &lt;b&gt;Kutsume kaasa lööma inimesi ja organisatsioone, kes tahavad tuua oma teemasid Arvamusfestivalile.&lt;/b&gt; Kui midagi pakitseb hinges või kripeldab keelel, siis on aeg panna festivalil püsti üks arutelu ja suu puhtaks rääkida. Arvamusvahetuse jaoks aga ei pea kasutama vaid arutelu vormi. Kui soovite oma laval arvamust avaldada kas muusika või mängu; kujutava, etendus-, filmi- või muu kunstivormi kaudu, on ka see oodatud. Palun kirjuta endast ja oma aruteluteemast &lt;a href=&quot;http://www.arvamusfestival.ee/ideede-esitamine/&quot;&gt;SIIA&lt;/a&gt;. Kõigilt ideede esitajatelt eeldame valmisolekut pakutud arutelud ka ellu viia. Eestikeelsetele aruteludele lisaks on väga oodatud venekeelsed, inglisekeelsed ja segakeelsed mõttevahetused. Palume juba oma ideed sõnastades silmas pidada festivali &lt;a href=&quot;http://www.arvamusfestival.ee/festivalist/hea-tava/&quot;&gt;head tava&lt;/a&gt;. Kui Sa pole varem festivalil käinud, siis arvamusfestival.ee &lt;a href=&quot;http://www.arvamusfestival.ee/uudised/galerii/&quot;&gt;fotod&lt;/a&gt; ja &lt;a href=&quot;http://www.arvamusfestival.ee/uudised/arvamus-tv/&quot;&gt;videod&lt;/a&gt; annavad ettekujutuse. Möödunud aasta teemadest saad aimu &lt;a href=&quot;http://www.arvamusfestival.ee/wp-content/uploads/2014/03/Kava_15_16_august.pdf&quot;&gt;programmist&lt;/a&gt;. Kui soovid rohkem infot, saad vastused oma küsimustele teemalavade programmi juhilt Maiult (&lt;a href=&quot;mailto:maiu.uus@arvamusfestival.ee&quot;&gt;maiu.uus@arvamusfestival.ee&lt;/a&gt; ). Karta pole vaja – kuni augustini välja oleme autelude ja lavade korraldajatele toeks eelmiste aastate kogemuste ja  õppetundidega, hea nõuga, kontaktide vahendamisega ning alati rõõmsa meelega.
Ainult läbi värskete ideede lisandumise saab festival kasvada ja areneda. Oleme kõigile avatud.
&lt;b&gt;Kes ja millest peaks Arvamusfestivalil sel aastal rääkima? &lt;/b&gt;&lt;b&gt;Mis on need kõige tähtsamad aruteluteemad, milleta kolmandat Arvamusfestivali kuidagi teha ei saa?&lt;/b&gt; &lt;b&gt;Ootame arutelude ideid 28. veebruarini!&lt;/b&gt; &lt;b&gt; &lt;/b&gt; Parimate soovidega
Arvamusfestivali korraldustiim
SUMMARY:Too oma teema Arvamusfestivalile 2015
URL;VALUE=URI:https://financeestonia.eu/sundmus/too-oma-teema-arvamusfestivalile-2015/
TRANSP:OPAQUE
BEGIN:VALARM
ACTION:DISPLAY
TRIGGER;TZID=Europe/Tallinn:19691231T000000
DESCRIPTION:Reminder for Too oma teema Arvamusfestivalile 2015
END:VALARM
END:VEVENT
END:VCALENDAR
