BEGIN:VCALENDAR
VERSION:2.0
PRODID:-//FinanceEstonia //NONSGML Events //EN
CALSCALE:GREGORIAN
X-WR-CALNAME:FinanceEstonia
BEGIN:VEVENT
CREATED:20141125T125044Z
UID:4143
DTEND;TZID=Europe/Tallinn:20260421T113638
DTSTART;TZID=Europe/Tallinn:20260421T113638
DTSTAMP;TZID=Europe/Tallinn:20260421T083638
LOCATION:
DESCRIPTION:&lt;div&gt;
&lt;div&gt;The idea of this round-table event will be to bring together the policy- and decision-makers (experts from the Ministry of Finance, Riigikogu, MKM and other stakeholders)around the table along with the business side to exchange opinions, feedback, concerns, best practices and discuss possible solutions/ideas. We truly believe that such form of constructive open dialogue between the policymakers and the business side is a great way to discuss this topic from different angles and come up with sustainable solutions that would benefit the Estonian business climate and its attractiveness for FDI.&lt;/div&gt;
&lt;/div&gt;
&lt;div&gt;&lt;/div&gt;
&lt;div&gt;
&lt;div&gt;To read more about our Taxation Committee, please click here: &lt;a href=&quot;http://amcham.ee/committees/taxation-committee/&quot;&gt;AmCham Taxation Committee&lt;/a&gt;&lt;/div&gt;
&lt;/div&gt;
&lt;div&gt;&lt;/div&gt;
&lt;div&gt;
&lt;div&gt;Please let us know if you would be available for a meeting on December 4th, as we truly believe that this should be a very interesting and productive discussion!&lt;/div&gt;
&lt;/div&gt;
SUMMARY:AmCham taxation roundtable meeting
URL;VALUE=URI:https://financeestonia.eu/sundmus/amcham-taxation-roundtable-meeting/
TRANSP:OPAQUE
BEGIN:VALARM
ACTION:DISPLAY
TRIGGER;TZID=Europe/Tallinn:19691231T000000
DESCRIPTION:Reminder for AmCham taxation roundtable meeting
END:VALARM
END:VEVENT
END:VCALENDAR
