BEGIN:VCALENDAR
VERSION:2.0
PRODID:-//FinanceEstonia //NONSGML Events //EN
CALSCALE:GREGORIAN
X-WR-CALNAME:FinanceEstonia
BEGIN:VEVENT
CREATED:20140926T135105Z
UID:3859
DTEND;TZID=Europe/Tallinn:20260422T150849
DTSTART;TZID=Europe/Tallinn:20260422T150849
DTSTAMP;TZID=Europe/Tallinn:20260422T120849
LOCATION:
DESCRIPTION:Pleas see the invitation of this fundraising event here: &lt;a href=&quot;https://financeestonia.eu/wp-content/uploads/2014/09/22092014-kutse-kasparov-eesti-keeles.pdf&quot;&gt;22092014 Kutse Kasparov eesti keeles&lt;/a&gt;
SUMMARY:Chess with Garry Gasparov
URL;VALUE=URI:https://financeestonia.eu/sundmus/chess-with-garry-gasparov-2/
TRANSP:OPAQUE
BEGIN:VALARM
ACTION:DISPLAY
TRIGGER;TZID=Europe/Tallinn:19691231T000000
DESCRIPTION:Reminder for Chess with Garry Gasparov
END:VALARM
END:VEVENT
END:VCALENDAR
