BEGIN:VCALENDAR
VERSION:2.0
PRODID:-//FinanceEstonia //NONSGML Events //EN
CALSCALE:GREGORIAN
X-WR-CALNAME:FinanceEstonia
BEGIN:VEVENT
CREATED:20140922T084333Z
UID:3838
DTEND;TZID=Europe/Tallinn:20260423T073928
DTSTART;TZID=Europe/Tallinn:20260423T073928
DTSTAMP;TZID=Europe/Tallinn:20260423T043928
LOCATION:
DESCRIPTION:&lt;a href=&quot;https://financeestonia.eu/wp-content/uploads/2014/09/1773fbf5-4827-480a-a9ac-da0dd645265d.jpg&quot;&gt;&lt;img class=&quot;alignnone size-medium wp-image-3839&quot; alt=&quot;BECC Mingle&quot; src=&quot;https://financeestonia.eu/wp-content/uploads/2014/09/1773fbf5-4827-480a-a9ac-da0dd645265d-213x300.jpg&quot; width=&quot;213&quot; height=&quot;300&quot; /&gt;&lt;/a&gt;
SUMMARY:BECC October Mingle with Estonian Business Angels Network
URL;VALUE=URI:https://financeestonia.eu/sundmus/becc-october-mingle-with-estonian-business-angels-network/
TRANSP:OPAQUE
BEGIN:VALARM
ACTION:DISPLAY
TRIGGER;TZID=Europe/Tallinn:19691231T000000
DESCRIPTION:Reminder for BECC October Mingle with Estonian Business Angels Network
END:VALARM
END:VEVENT
END:VCALENDAR
