BEGIN:VCALENDAR
VERSION:2.0
PRODID:-//FinanceEstonia //NONSGML Events //EN
CALSCALE:GREGORIAN
X-WR-CALNAME:FinanceEstonia
BEGIN:VEVENT
CREATED:20140903T064343Z
UID:3764
DTEND;TZID=Europe/Tallinn:20260421T113514
DTSTART;TZID=Europe/Tallinn:20260421T113514
DTSTAMP;TZID=Europe/Tallinn:20260421T083514
LOCATION:
DESCRIPTION:BECC/TRINITI Seminar How to Protect your Intellectual Property 17 September from 9 am to 11 am
at Triniti Office (Tartu mnt 2) &lt;a href=&quot;https://financeestonia.eu/wp-content/uploads/2014/09/56d7e197-6ac9-4c41-9a55-adf8020bb5c1.jpg&quot;&gt;&lt;img class=&quot;alignnone size-medium wp-image-3765&quot; alt=&quot;56d7e197-6ac9-4c41-9a55-adf8020bb5c1&quot; src=&quot;https://financeestonia.eu/wp-content/uploads/2014/09/56d7e197-6ac9-4c41-9a55-adf8020bb5c1-360x254.jpg&quot; width=&quot;360&quot; height=&quot;254&quot; /&gt;&lt;/a&gt;
SUMMARY:BECC/Trinity How to protect your intellectual property
URL;VALUE=URI:https://financeestonia.eu/sundmus/becctrinity-how-to-protect-your-intellectual-property/
TRANSP:OPAQUE
BEGIN:VALARM
ACTION:DISPLAY
TRIGGER;TZID=Europe/Tallinn:19691231T000000
DESCRIPTION:Reminder for BECC/Trinity How to protect your intellectual property
END:VALARM
END:VEVENT
END:VCALENDAR
