BEGIN:VCALENDAR
VERSION:2.0
PRODID:-//FinanceEstonia //NONSGML Events //EN
CALSCALE:GREGORIAN
X-WR-CALNAME:FinanceEstonia
BEGIN:VEVENT
CREATED:20140414T180331Z
UID:3144
DTEND;TZID=Europe/Tallinn:20260421T112357
DTSTART;TZID=Europe/Tallinn:20260421T112357
DTSTAMP;TZID=Europe/Tallinn:20260421T082357
LOCATION:
DESCRIPTION:Kutsume Teid hommikuseminarile &quot;Kuidas luua innovaatilisi ühisprojekte?&quot;, kus tutvustatakse ITL ja advokaadibüroo Glimstedt koostöös valminud uudset mudellepingute paketti, mis võimaldab infotehnoloogiaga tegelevatel ettevõtjatel luua ühiseid innovatsiooni- ja arendusprojekte ning kergendada seejuures koostööprojektide algatamise ja elluviimisega seotud õiguskoormust. Seminar toimub kolmapäeval, 30. aprillil kell 9.30 – 12.00 Ülemiste City Zapp konverentsikeskuse II korrusel,aadressil Lõõtsa 6, Tallinn. Oma osalussoovist palume teatada aadressil .heleri.vahemae@itl.ee Eesti Infotehnoloogia ja Telekommunikatsiooni Liidu liikmetele on osalemine tasuta, teistele on osalustasu 20 eurot, millele lisandub käibemaks. Seminari programm: 09.30 „Innovaatiliste ühisprojektide lahenduse loomise vajadus ehk miks ITL seda tegi“ – Tiit Tammiste, ITL juhatuse liige
09.45 „Mudellepingule käed külge - kuidas anda ühisprojektile Sinu nägu?“ – advokaat Triin Tuulik, advokaadibüroo GLIMSTEDT
10.30 Kohvipaus
10.45 „Avaliku sektori osalus IT ühisprojektides&quot; – vandeadvokaat Merit Lind, advokaadibüroo GLIMSTEDT
11.30 Arutelu Seminar toimub IKT Klastri raames Euroopa Regionaalarengu Fondi toetusel. Kõik on IT! Doris Põld
ITL projektijuht
Doris.pold@itl.ee
+372 511 44 11
SUMMARY:Kuidas luua innovaatilisi ühisprojekte?
URL;VALUE=URI:https://financeestonia.eu/sundmus/kuidas-luua-innovaatilisi-uhisprojekte/
TRANSP:OPAQUE
BEGIN:VALARM
ACTION:DISPLAY
TRIGGER;TZID=Europe/Tallinn:19691231T000000
DESCRIPTION:Reminder for Kuidas luua innovaatilisi ühisprojekte?
END:VALARM
END:VEVENT
END:VCALENDAR
