BEGIN:VCALENDAR
VERSION:2.0
PRODID:-//FinanceEstonia //NONSGML Events //EN
CALSCALE:GREGORIAN
X-WR-CALNAME:FinanceEstonia
BEGIN:VEVENT
CREATED:20140321T082011Z
UID:3054
DTEND;TZID=Europe/Tallinn:20260421T113643
DTSTART;TZID=Europe/Tallinn:20260421T113643
DTSTAMP;TZID=Europe/Tallinn:20260421T083643
LOCATION:
DESCRIPTION:Krõõt Kilvet will represent FinanceEstonia at EBRD Annual Meeting.
SUMMARY:2014 EBRD Annual Meeting &amp; Business Forum
URL;VALUE=URI:https://financeestonia.eu/sundmus/2014-ebrd-annual-meeting-business-forum/
TRANSP:OPAQUE
BEGIN:VALARM
ACTION:DISPLAY
TRIGGER;TZID=Europe/Tallinn:19691231T000000
DESCRIPTION:Reminder for 2014 EBRD Annual Meeting &amp; Business Forum
END:VALARM
END:VEVENT
END:VCALENDAR
