BEGIN:VCALENDAR
VERSION:2.0
PRODID:-//FinanceEstonia //NONSGML Events //EN
CALSCALE:GREGORIAN
X-WR-CALNAME:FinanceEstonia
BEGIN:VEVENT
CREATED:20131104T095631Z
UID:2091
DTEND;TZID=Europe/Tallinn:20260422T201239
DTSTART;TZID=Europe/Tallinn:20260422T201239
DTSTAMP;TZID=Europe/Tallinn:20260422T171239
LOCATION:
DESCRIPTION:Europe’s most important financial center has dedicated itself to developing its entrepreneurial infrastructure and technology ecosystem. Nowhere in else in Europe can you find this many innovative technology companies which are disrupting the world of finance as we know it. Join us for a day among dozens of these companies. Hear their founders and executives share insights on the various discussion panels and see their products demonstrated in the expo area. Held at Europe’s largest technology accelerator space in the financial services and retail fields, London Disrupts Finance strives to be an inspiring event for technology entrepreneurs, an educational event for financial services professionals and a crucial event for those that want to know what’s going on in Europe’s largest and most prolific FinTech hub. &lt;strong&gt;Priit Põldoja&lt;/strong&gt; will represent FinanceEstonia at Panel: Developing Local Ecosystems. Read more about the event &lt;a href=&quot;http://londondisruptsfinance.com/&quot;&gt;here.&lt;/a&gt;
SUMMARY:London Disrupts Finance Conference
URL;VALUE=URI:https://financeestonia.eu/sundmus/london-disrupts-finance-conference/
TRANSP:OPAQUE
BEGIN:VALARM
ACTION:DISPLAY
TRIGGER;TZID=Europe/Tallinn:19691231T000000
DESCRIPTION:Reminder for London Disrupts Finance Conference
END:VALARM
END:VEVENT
END:VCALENDAR
