BEGIN:VCALENDAR
VERSION:2.0
PRODID:-//FinanceEstonia //NONSGML Events //EN
CALSCALE:GREGORIAN
X-WR-CALNAME:FinanceEstonia
BEGIN:VEVENT
CREATED:20131007T120658Z
UID:2002
DTEND;TZID=Europe/Tallinn:20260422T150700
DTSTART;TZID=Europe/Tallinn:20260422T150700
DTSTAMP;TZID=Europe/Tallinn:20260422T120700
LOCATION:
DESCRIPTION:Please read more about the event &lt;a href=&quot;http://www.businessangelday.com/home.html&quot;&gt;HERE&lt;/a&gt;. We can offer special price &lt;b&gt;€ &lt;/b&gt;330, - through AVCO membership. (Normal price € 490,-/early booking € 420,-) &lt;b&gt; &lt;/b&gt;
SUMMARY:Austrian Business Angels Days 2013
URL;VALUE=URI:https://financeestonia.eu/sundmus/austrian-business-angels-days-2013/
TRANSP:OPAQUE
BEGIN:VALARM
ACTION:DISPLAY
TRIGGER;TZID=Europe/Tallinn:19691231T000000
DESCRIPTION:Reminder for Austrian Business Angels Days 2013
END:VALARM
END:VEVENT
END:VCALENDAR
