BEGIN:VCALENDAR
VERSION:2.0
PRODID:-//FinanceEstonia //NONSGML Events //EN
CALSCALE:GREGORIAN
X-WR-CALNAME:FinanceEstonia
BEGIN:VEVENT
CREATED:20130917T100634Z
UID:1836
DTEND;TZID=Europe/Tallinn:20260422T214309
DTSTART;TZID=Europe/Tallinn:20260422T214309
DTSTAMP;TZID=Europe/Tallinn:20260422T184309
LOCATION:
DESCRIPTION:Aruteluks tulevad teemad: - Limited partnership struktuuri rakendamine uues investeerimisfondide seadusandluses - analüüsi tulemuste tutvustamine
- Ühise turuülese pakkumise kokku panemine koos võimalike standardlahendustega
- Fondide töögrupi töökorraldus
SUMMARY:Funds work group meeting
URL;VALUE=URI:https://financeestonia.eu/sundmus/funds-work-group-meeting/
TRANSP:OPAQUE
BEGIN:VALARM
ACTION:DISPLAY
TRIGGER;TZID=Europe/Tallinn:19691231T000000
DESCRIPTION:Reminder for Funds work group meeting
END:VALARM
END:VEVENT
END:VCALENDAR
