BEGIN:VCALENDAR
VERSION:2.0
PRODID:-//FinanceEstonia //NONSGML Events //EN
CALSCALE:GREGORIAN
X-WR-CALNAME:FinanceEstonia
BEGIN:VEVENT
CREATED:20260417T111143Z
UID:16309
DTEND;TZID=Europe/Tallinn:20260428T110000
DTSTART;TZID=Europe/Tallinn:20260428T093000
DTSTAMP;TZID=Europe/Tallinn:20260421T114333
LOCATION:Rahapesu Andmebüroo
DESCRIPTION:
SUMMARY:Kohtumine Rahapesu Andmebürooga
URL;VALUE=URI:https://financeestonia.eu/sundmus/kohtumine-rahapesu-andmeburooga-4/
TRANSP:OPAQUE
BEGIN:VALARM
ACTION:DISPLAY
TRIGGER;TZID=Europe/Tallinn:20260427T093000
DESCRIPTION:Reminder for Kohtumine Rahapesu Andmebürooga
END:VALARM
END:VEVENT
END:VCALENDAR
