BEGIN:VCALENDAR
VERSION:2.0
PRODID:-//FinanceEstonia //NONSGML Events //EN
CALSCALE:GREGORIAN
X-WR-CALNAME:FinanceEstonia
BEGIN:VEVENT
CREATED:20260227T070451Z
UID:16114
DTEND;TZID=Europe/Tallinn:20260310T163000
DTSTART;TZID=Europe/Tallinn:20260310T150000
DTSTAMP;TZID=Europe/Tallinn:20260421T082433
LOCATION:Tartu Ülikooli õigusteaduskond
DESCRIPTION:Rohkem infot &lt;strong&gt;&lt;a href=&quot;https://oigus.ut.ee/et/uudis/avalik-loeng-tarbijakrediidilepingu-kohtuvaline-umberkujundamine-10-martsil-tallinnas&quot;&gt;SIIT&lt;/a&gt;&lt;/strong&gt; Registreerimine on avatud kuni 09.03.2026 (või kuni kohti jagub) ning seda saab teha &lt;b&gt;&lt;a class=&quot;ext&quot; title=&quot;(opens in a new window)&quot; href=&quot;https://forms.office.com/e/wmWKkqLwbD&quot; target=&quot;_blank&quot; rel=&quot;noopener noreferrer&quot; data-extlink=&quot;&quot;&gt;&lt;span style=&quot;color: #0433ff;&quot;&gt;SIIT&lt;/span&gt;&lt;/a&gt;.&lt;/b&gt;   &lt;div&gt;&lt;/div&gt;
SUMMARY:Avalik loeng „Tarbijakrediidilepingu kohtuväline ümberkujundamine“
URL;VALUE=URI:https://financeestonia.eu/sundmus/avalik-loeng-tarbijakrediidilepingu-kohtuvaline-umberkujundamine/
TRANSP:OPAQUE
BEGIN:VALARM
ACTION:DISPLAY
TRIGGER;TZID=Europe/Tallinn:20260309T150000
DESCRIPTION:Reminder for Avalik loeng „Tarbijakrediidilepingu kohtuväline ümberkujundamine“
END:VALARM
END:VEVENT
END:VCALENDAR
