BEGIN:VCALENDAR
VERSION:2.0
PRODID:-//FinanceEstonia //NONSGML Events //EN
CALSCALE:GREGORIAN
X-WR-CALNAME:FinanceEstonia
BEGIN:VEVENT
CREATED:20260225T200816Z
UID:16105
DTEND;TZID=Europe/Tallinn:20260305T120000
DTSTART;TZID=Europe/Tallinn:20260305T090000
DTSTAMP;TZID=Europe/Tallinn:20260421T082433
LOCATION:Coop Pank 
DESCRIPTION:&lt;ol start=&quot;5&quot;&gt; &lt;li style=&quot;font-weight: 400;&quot;&gt;&lt;strong&gt; märtsi hommikupoolikul ootame kõiki FinanceEstonia liikmeid külla hommikukohvile, kus räägime panganduse tulevikust. Uurime koos:&lt;/strong&gt;&lt;/li&gt; &lt;/ol&gt; &lt;ul style=&quot;font-weight: 400;&quot;&gt; &lt;li style=&quot;font-weight: 400;&quot;&gt;kas klassikalised universaalpangad on AI ajastul kaduv nähtus;&lt;/li&gt; &lt;li style=&quot;font-weight: 400;&quot;&gt;kuidas muutub lähiaastatel kasutajakeskne innovatsioon;&lt;/li&gt; &lt;li style=&quot;font-weight: 400;&quot;&gt;milline on inimkeskne pank?&lt;/li&gt; &lt;li&gt;&lt;strong&gt;Ajakava&lt;/strong&gt; &lt;strong&gt;09.00 – 09.30   &lt;/strong&gt;Kogunemine ja hommikukohv &lt;strong&gt;09.30 – 09.40   &lt;/strong&gt;Coop Panga tegevjuhi&lt;strong&gt; Arko Kurtmanni &lt;/strong&gt;tervitus &lt;p class=&quot;mcePastedContent&quot;&gt;&lt;strong&gt;09.40 – 09.50   &lt;/strong&gt;Rethinki asutaja ja tegevjuhi&lt;strong&gt; Lars-Erik Hioni &lt;/strong&gt;tervitus&lt;/p&gt; &lt;strong&gt;09.50 – 10.10   Kuidas muutub lähitulevikus kasutajakeskne &lt;/strong&gt; &lt;strong&gt;                         innovatsioon?&lt;/strong&gt; &lt;strong&gt;Jana Kukk &lt;/strong&gt;– Rethinki kaasasutaja ja TalTechi vanemlektor &lt;p class=&quot;mcePastedContent&quot;&gt;&lt;strong&gt;                         &lt;/strong&gt;&lt;/p&gt; &lt;p class=&quot;mcePastedContent&quot;&gt;&lt;strong&gt;10.10 – 10.30   &lt;/strong&gt;Paus&lt;/p&gt; &lt;p class=&quot;mcePastedContent&quot;&gt;&lt;strong&gt;10.30 – 10.50   Inimkeskne tulevikupangandus&lt;/strong&gt;&lt;/p&gt; &lt;p class=&quot;mcePastedContent&quot;&gt;                         &lt;strong&gt;Indrek Reimand &lt;/strong&gt;– Coop Panga e-kanalite juht&lt;/p&gt; &lt;p class=&quot;mcePastedContent&quot;&gt;&lt;strong&gt;10.50 – 11.20   Kuidas ehitada tulevikupanka?&lt;/strong&gt;&lt;/p&gt; &lt;p class=&quot;mcePastedContent&quot;&gt;                         &lt;strong&gt;Arnold Rein Tatunts &lt;/strong&gt;– Coop Panga ärikliendi&lt;/p&gt; &lt;p class=&quot;mcePastedContent&quot;&gt;                         igapäevapanganduse tootejuht ja üle Atlandi ookeani sõudja&lt;/p&gt; &lt;p class=&quot;mcePastedContent&quot;&gt;                         (moderaator)&lt;/p&gt; &lt;p class=&quot;mcePastedContent&quot;&gt;                         &lt;strong&gt;Erje Mettas &lt;/strong&gt;– Coop Panga ärikliendi igapäevapanganduse&lt;/p&gt; &lt;p class=&quot;mcePastedContent&quot;&gt;                         äriliini juht&lt;/p&gt; &lt;p class=&quot;mcePastedContent&quot;&gt;                         &lt;strong&gt;Lars-Erik Hion &lt;/strong&gt;– Rethinki asutaja ja tegevjuht&lt;/p&gt; &lt;p class=&quot;mcePastedContent&quot;&gt;                         &lt;strong&gt;Andres Lehtmets &lt;/strong&gt;– konsultatsioonifirma InsurTech For&lt;/p&gt; &lt;p class=&quot;mcePastedContent&quot;&gt;                         Good asutaja, Lightspark Payments Europe AS nõukogu&lt;/p&gt; &lt;p class=&quot;mcePastedContent&quot;&gt;                         liige ja Cambridge Centre for Alternative Finance&lt;/p&gt; &lt;p class=&quot;mcePastedContent&quot;&gt;                         (Cambridge Judge Business School, University of&lt;/p&gt; &lt;p class=&quot;mcePastedContent&quot;&gt;                         Cambridge) tehisintellekti uuringute analüütik&lt;/p&gt; &lt;p class=&quot;last-child&quot;&gt;&lt;strong&gt;11.20 – 12.00   Võrgustumine ja kohv&lt;/strong&gt;&lt;/p&gt; &lt;/li&gt; &lt;/ul&gt;
SUMMARY:“Saame tuttavaks” kohtumine: Coop Pank ja Rethink
URL;VALUE=URI:https://financeestonia.eu/sundmus/saame-tuttavaks-kohtumine-coop-pank-ja-rethink/
TRANSP:OPAQUE
BEGIN:VALARM
ACTION:DISPLAY
TRIGGER;TZID=Europe/Tallinn:20260304T090000
DESCRIPTION:Reminder for “Saame tuttavaks” kohtumine: Coop Pank ja Rethink
END:VALARM
END:VEVENT
END:VCALENDAR
