BEGIN:VCALENDAR
VERSION:2.0
PRODID:-//FinanceEstonia //NONSGML Events //EN
CALSCALE:GREGORIAN
X-WR-CALNAME:FinanceEstonia
BEGIN:VEVENT
CREATED:20260225T181945Z
UID:16103
DTEND;TZID=Europe/Tallinn:20260227T120000
DTSTART;TZID=Europe/Tallinn:20260227T110000
DTSTAMP;TZID=Europe/Tallinn:20260422T120849
LOCATION:Eesti Panga YouTube&#039;i kanal
DESCRIPTION:&lt;div&gt;Eesti Panga ökonomistid 𝗧𝗮𝗮𝘃𝗶 𝗥𝗮𝘂𝗱𝘀𝗮𝗮𝗿 ja &lt;strong&gt;Jana Kask&lt;/strong&gt; tutvustavad äsja valminud Majanduse Rahastamise Ülevaadet ehk 𝗺𝗶𝗹𝗹𝗶𝘀𝗲𝗱 𝗼𝗻 𝗘𝗲𝘀𝘁𝗶 𝗺𝗮𝗷𝗮𝗽𝗶𝗱𝗮𝗺𝗶𝘀𝘁𝗲 𝗷𝗮 𝗲𝘁𝘁𝗲𝘃õ𝘁𝗲𝘁𝗲 𝗿𝗮𝗵𝗮𝘀𝘁𝗮𝗺𝗶𝘀𝘃õ𝗶𝗺𝗮𝗹𝘂𝘀𝗲𝗱.&lt;/div&gt; &lt;div&gt;&lt;/div&gt; &lt;div&gt;Infotunnis räägitakse:&lt;/div&gt; &lt;div&gt;🔹 milline on inimeste ja ettevõtete ligipääs pangalaenudele;&lt;/div&gt; &lt;div&gt;🔹 kuidas on pankade konkurents mõjutanud laenuintressimäärasid;&lt;/div&gt; &lt;div&gt;🔹 kui palju pensioni- ja investeerimisfondide raha jõuab Eestisse;&lt;/div&gt; &lt;div&gt;🔹 milline on olukord Eestisse tehtud välismaiste investeeringutega.&lt;/div&gt; &lt;div&gt;Lisateemana: korteriühistutele antud laenud elamute renoveerimiseks.&lt;/div&gt; &lt;div&gt;&lt;/div&gt; &lt;div&gt;Esitlust saab jälgida otseülekandena&lt;/div&gt; &lt;div&gt;🔹 Eesti Panga YouTube&#039;i kanalilt &lt;a href=&quot;https://lnkd.in/dfh5D6QQ&quot;&gt;https://lnkd.in/dfh5D6QQ&lt;/a&gt;&lt;/div&gt; &lt;div&gt;🔹 Slidos &lt;a href=&quot;https://lnkd.in/dXgm7SPk&quot;&gt;https://lnkd.in/dXgm7SPk&lt;/a&gt;&lt;/div&gt; &lt;div&gt;&lt;/div&gt; &lt;div&gt;Oodatud on ka küsimused, mille moderaator esinejatele ettekande lõpus ette loeb. Esitluse ajal oodatakse küsimusi üksnes Slido vahendusel, otseülekande kommentaaridesse kirjutatud küsimustele ürituse ajal ei vastata.&lt;/div&gt; &lt;div&gt;&lt;/div&gt; &lt;div&gt;Esitlus kestab koos küsimuste ja vastustega kuni tund aega.&lt;/div&gt;
SUMMARY:Eesti Panga majanduse rahastamise ülevaate esitlus
URL;VALUE=URI:https://financeestonia.eu/sundmus/eesti-panga-majanduse-rahastamise-ulevaate-esitlus/
TRANSP:OPAQUE
BEGIN:VALARM
ACTION:DISPLAY
TRIGGER;TZID=Europe/Tallinn:20260226T110000
DESCRIPTION:Reminder for Eesti Panga majanduse rahastamise ülevaate esitlus
END:VALARM
END:VEVENT
END:VCALENDAR
