BEGIN:VCALENDAR
VERSION:2.0
PRODID:-//FinanceEstonia //NONSGML Events //EN
CALSCALE:GREGORIAN
X-WR-CALNAME:FinanceEstonia
BEGIN:VEVENT
CREATED:20260202T215130Z
UID:16084
DTEND;TZID=Europe/Tallinn:20260309T160000
DTSTART;TZID=Europe/Tallinn:20260309T100000
DTSTAMP;TZID=Europe/Tallinn:20260421T100037
LOCATION:Rahandusministeerium
DESCRIPTION:&lt;p class=&quot;x_MsoNormal&quot;&gt;Traditsiooniliselt alustab Rahandusministeerium rahatarkuse kuud rahatarkuse strateegiapäevaga, kus jagab partnerorganisatsioonide ja rahatarkuse edendajatega olulisemat infot, mis on viimase aasta jooksul rahatarkuse edendamises tehtud, mis on väljakutsed ja plaanid uueks aastaks.&lt;/p&gt; &lt;p class=&quot;p1&quot;&gt;Päevakava&lt;/p&gt; &lt;p class=&quot;p1&quot;&gt;10.00-10.15 Registreerimine ja tervituskohv&lt;/p&gt; &lt;p class=&quot;p1&quot;&gt;10.15-10.45 RAMi 2025.a. rahatarkuse tegevuste kokkuvõtted ja&lt;/p&gt; &lt;p class=&quot;p1&quot;&gt;uus tegevuskava&lt;/p&gt; &lt;p class=&quot;p1&quot;&gt;10.45-12.15 Ülevaade haridusteemadest&lt;/p&gt; &lt;p class=&quot;p1&quot;&gt;12.15-12.45 Rahvusvaheline koostöö ja Eesti rahatarkuse&lt;/p&gt; &lt;p class=&quot;p1&quot;&gt;saadikud&lt;/p&gt; &lt;p class=&quot;p1&quot;&gt;12.45-13.15 Lõuna&lt;/p&gt; &lt;p class=&quot;p1&quot;&gt;13.15-13.35 Täiskasvanute rahatarkuse uuring 2026 – kuidas&lt;/p&gt; &lt;p class=&quot;p1&quot;&gt;täpsemini mõõta eestlaste rahatarkust?&lt;/p&gt; &lt;p class=&quot;p1&quot;&gt;13.35-14.45 Finantspettuste ennetamine ja riiklikud sammud&lt;/p&gt; &lt;p class=&quot;p1&quot;&gt;14.45-15.00 Sirutuspaus&lt;/p&gt; &lt;p class=&quot;p1&quot;&gt;15.00 – 15.30 Võlgnike toetamine ja haavatavate sihtgruppide&lt;/p&gt; &lt;p class=&quot;p1&quot;&gt;rahatarkus&lt;/p&gt; &lt;p class=&quot;p1&quot;&gt;15.30 – 16.00 Pensionitarkuse edusammud ja väljakutsed&lt;/p&gt; &lt;p class=&quot;p1&quot;&gt;16.00-16.30 Strateegiapäeva kokkuvõtted ja vaba mikrofon&lt;/p&gt; &lt;p class=&quot;x_MsoNormal&quot;&gt;&lt;/p&gt;
SUMMARY:Rahatarkuse strateegiapäev
URL;VALUE=URI:https://financeestonia.eu/sundmus/rahatarkuse-strateegiapaev-5/
TRANSP:OPAQUE
BEGIN:VALARM
ACTION:DISPLAY
TRIGGER;TZID=Europe/Tallinn:20260308T100000
DESCRIPTION:Reminder for Rahatarkuse strateegiapäev
END:VALARM
END:VEVENT
END:VCALENDAR
