BEGIN:VCALENDAR
VERSION:2.0
PRODID:-//FinanceEstonia //NONSGML Events //EN
CALSCALE:GREGORIAN
X-WR-CALNAME:FinanceEstonia
BEGIN:VEVENT
CREATED:20260123T143138Z
UID:16040
DTEND;TZID=Europe/Tallinn:20260122T150000
DTSTART;TZID=Europe/Tallinn:20260122T130000
DTSTAMP;TZID=Europe/Tallinn:20260422T121023
LOCATION:Swedbank
DESCRIPTION:&lt;h3&gt;Teemad&lt;/h3&gt; &lt;ul&gt; &lt;li&gt;&lt;span lang=&quot;ET&quot;&gt;Töögrupi 2026. aasta fookused ja tegevused&lt;/span&gt;&lt;/li&gt; &lt;li style=&quot;font-weight: 400;&quot;&gt;Rahandusministeeriumi pensionianalüüs&lt;/li&gt; &lt;li style=&quot;font-weight: 400;&quot;&gt;Tööandjapension&lt;/li&gt; &lt;li style=&quot;font-weight: 400;&quot;&gt;Heaks kiidetud müügitaktikad&lt;/li&gt; &lt;li&gt;P2P muutused&lt;/li&gt; &lt;li&gt;Kohalikud investeeringud&lt;/li&gt; &lt;li style=&quot;font-weight: 400;&quot;&gt;IFS muudatused&lt;/li&gt; &lt;/ul&gt;
SUMMARY:Kogumispensioni töögrupi koosolek
URL;VALUE=URI:https://financeestonia.eu/sundmus/16040/
TRANSP:OPAQUE
BEGIN:VALARM
ACTION:DISPLAY
TRIGGER;TZID=Europe/Tallinn:20260121T130000
DESCRIPTION:Reminder for Kogumispensioni töögrupi koosolek
END:VALARM
END:VEVENT
END:VCALENDAR
