BEGIN:VCALENDAR
VERSION:2.0
PRODID:-//FinanceEstonia //NONSGML Events //EN
CALSCALE:GREGORIAN
X-WR-CALNAME:FinanceEstonia
BEGIN:VEVENT
CREATED:20251028T122715Z
UID:15833
DTEND;TZID=Europe/Tallinn:20251110T160000
DTSTART;TZID=Europe/Tallinn:20251110T143000
DTSTAMP;TZID=Europe/Tallinn:20260422T120915
LOCATION:
DESCRIPTION:&lt;p style=&quot;font-weight: 400;&quot;&gt;ELi ja Jaapani vaheline majanduspartnerlusleping jõustus 2019. aasta veebruaris. Viis aastat pärast selle jõustumist viiakse läbi lepingu mõju hindamine, et hinnata lepingu &lt;strong&gt;majanduslikke, sotsiaalseid, keskkonnaalaseid ja inimõigustega seotud mõjusid&lt;/strong&gt; nii ELis kui ka Jaapanis.&lt;/p&gt; &lt;p style=&quot;font-weight: 400;&quot;&gt;Tagasiside ja kogemused on selle protsessi jaoks äärmiselt väärtuslikud. Seminar annab ettevõtetele, VKEdele, erialaliitudele, tarbijatele ja teistele kodanikuühiskonna organisatsioonidele võimaluse jagada kogemusi lepingu praktilise rakendamise kohta – nii selle &lt;strong&gt;kasulikkuse&lt;/strong&gt; kui ka &lt;strong&gt;võimalike väljakutsete&lt;/strong&gt; osas.&lt;/p&gt; &lt;h3&gt;Seminari üksikasjad&lt;/h3&gt; &lt;p style=&quot;font-weight: 400;&quot;&gt;📅 &lt;strong&gt;Kuupäev:&lt;/strong&gt; 10. november 2025 🕒 &lt;strong&gt;Kellaaeg:&lt;/strong&gt; 13.30–15.00 (Kesk-Euroopa aeg) 💻 &lt;strong&gt;Formaat:&lt;/strong&gt; veebiseminar (eelregistreerimine vajalik) 🔗 &lt;strong&gt;Registreerimislink:&lt;/strong&gt; &lt;a href=&quot;https://us06web.zoom.us/webinar/register/WN_iBe0VqQmSDSwrTeQEPXAuA#/&quot;&gt;Zoomi registreerimisvorm&lt;/a&gt;&lt;/p&gt; &lt;h3&gt;Miks osaleda?&lt;/h3&gt; &lt;ul&gt; &lt;li style=&quot;font-weight: 400;&quot;&gt;Võimalus jagada oma organisatsiooni või isiklikku kogemust EPA rakendamisel. • Võimalus tõsta esile lepingu toimimisega seotud nii võimalusi kui ka väljakutseid. • Võimalus jagada oma teadmisi lepingu mõjude kohta oma valdkonnas. • Võimalus kaasa aidata ELi kaubanduspoliitika ja kaubandussuhete kujundamisele Jaapaniga.&lt;/li&gt; &lt;/ul&gt; &lt;h3&gt;Registreerimine&lt;/h3&gt; &lt;p style=&quot;font-weight: 400;&quot;&gt;Palume end veebis registreerida järgmise lingi kaudu: 👉 &lt;a href=&quot;https://us06web.zoom.us/webinar/register/WN_iBe0VqQmSDSwrTeQEPXAuA#/&quot;&gt;https://us06web.zoom.us/webinar/register/WN_iBe0VqQmSDSwrTeQEPXAuA#/&lt;/a&gt;&lt;/p&gt; &lt;h3&gt;Lisainfo&lt;/h3&gt; &lt;ul style=&quot;font-weight: 400;&quot;&gt; &lt;li&gt;• Projekti veebileht: &lt;a href=&quot;http://www.eu-japan-evaluation.eu/&quot;&gt;www.eu-japan-evaluation.eu&lt;/a&gt; • Uudised ja värskendused: jälgige ja jagage teavet &lt;a href=&quot;https://x.com/TradeImpactBV&quot;&gt;X&lt;/a&gt; ja &lt;a href=&quot;https://www.linkedin.com/in/eu-japan-epa-evaluation-2b4499364/?originalSubdomain=nl&quot;&gt;LinkedIn&lt;/a&gt;&lt;/li&gt; &lt;/ul&gt;
SUMMARY:Veebiseminar ELi ja Jaapani majanduspartnerluslepingu (EPA) mõju hindamise teemal
URL;VALUE=URI:https://financeestonia.eu/sundmus/veebiseminar-eli-ja-jaapani-majanduspartnerluslepingu-epa-moju-hindamise-teemal/
TRANSP:OPAQUE
BEGIN:VALARM
ACTION:DISPLAY
TRIGGER;TZID=Europe/Tallinn:20251109T143000
DESCRIPTION:Reminder for Veebiseminar ELi ja Jaapani majanduspartnerluslepingu (EPA) mõju hindamise teemal
END:VALARM
END:VEVENT
END:VCALENDAR
