BEGIN:VCALENDAR
VERSION:2.0
PRODID:-//FinanceEstonia //NONSGML Events //EN
CALSCALE:GREGORIAN
X-WR-CALNAME:FinanceEstonia
BEGIN:VEVENT
CREATED:20251027T111603Z
UID:15827
DTEND;TZID=Europe/Tallinn:20251107T130000
DTSTART;TZID=Europe/Tallinn:20251107T110000
DTSTAMP;TZID=Europe/Tallinn:20260422T120941
LOCATION:Triniti advokaadibüroo
DESCRIPTION:&lt;h3 style=&quot;font-weight: 400;&quot;&gt;&lt;strong&gt;Päevakord:&lt;/strong&gt;&lt;/h3&gt; &lt;ol&gt; &lt;li style=&quot;font-weight: 400;&quot;&gt;Avatud arutelu, kus käime läbi olulised teemad ja murekohad, eesmärgiga sättida paika tegevussuunad 2026. aastaks.&lt;/li&gt; &lt;li style=&quot;font-weight: 400;&quot;&gt;Ülevaade seadusandlikest teemadest:&lt;/li&gt; &lt;/ol&gt; &lt;ul style=&quot;font-weight: 400;&quot;&gt; &lt;li&gt;krediiditeabe jagamise seaduse eelnõu;&lt;/li&gt; &lt;li&gt;tsiviilkohtumenetluse seadus;&lt;/li&gt; &lt;li&gt;MKS ja RahaPTS muutmise seaduse eelnõu;&lt;/li&gt; &lt;li&gt;tarbijakrediidi direktiiv.&lt;/li&gt; &lt;/ul&gt;
SUMMARY:Krediidiandjate töögrupi koosolek
URL;VALUE=URI:https://financeestonia.eu/sundmus/krediidiandjate-toogrupi-koosolek-7/
TRANSP:OPAQUE
BEGIN:VALARM
ACTION:DISPLAY
TRIGGER;TZID=Europe/Tallinn:20251106T110000
DESCRIPTION:Reminder for Krediidiandjate töögrupi koosolek
END:VALARM
END:VEVENT
END:VCALENDAR
