BEGIN:VCALENDAR
VERSION:2.0
PRODID:-//FinanceEstonia //NONSGML Events //EN
CALSCALE:GREGORIAN
X-WR-CALNAME:FinanceEstonia
BEGIN:VEVENT
CREATED:20250626T132557Z
UID:15689
DTEND;TZID=Europe/Tallinn:20250826T210000
DTSTART;TZID=Europe/Tallinn:20250826T173000
DTSTAMP;TZID=Europe/Tallinn:20260422T120941
LOCATION:Wise
DESCRIPTION:Eesti välisesinduste juhid kogunevad taas traditsiooniliselt augusti lõpus Tallinnasse, et seada sihte uueks hooajaks. Äridiplomaatia on välisministeeriumi üks prioriteetidest ning taas kutsutakse ka ettevõtjaid ja partnereid välisministeeriumi ekspordiklubi üritusele suursaadikutega kohtuma. Suursaadikute ekspordiklubi kohtumine toimub &lt;strong&gt;26. augustil &lt;/strong&gt;&lt;strong&gt;kell 17.30 – 21.00 Wise’i kontoris &lt;/strong&gt;(Krulli kvartal, Kopli tn 68a, Tallinn). Kavas on kiirkohtingu formaadis ettevõtjate kohtumised saadikutega ja hilisem omavaheline võrgustumine. Kohal on ka Ettevõtluse ja Innovatsiooni SA esindajad, kellega ettevõtetel on samuti võimalik suhelda. Piiratud kohtate arvu tõttu oodatakse üritusele igast ettevõttest ühte esindajat.&lt;strong&gt; &lt;/strong&gt;Üritus on eelregistreerimisega.&lt;strong&gt; &lt;/strong&gt;&lt;strong&gt;Registreerumine on avatud &lt;/strong&gt;&lt;strong&gt;21. &lt;/strong&gt;&lt;strong&gt;augustini&lt;/strong&gt;&lt;strong&gt; &lt;/strong&gt;&lt;strong&gt;&lt;a href=&quot;https://survey.mfa.ee/index.php/518536?lang=et&quot;&gt;SIIN&lt;/a&gt;.&lt;/strong&gt; Registreerumisel valige palun kuni kolm teie jaoks kõige olulisemat riiki (eksporditurgu). Teave eelistuste kohta võimaldab ekspordiklubi õhtut paremini ette valmistada. Võimalikest küsimustest andke palun märku aadressil &lt;a href=&quot;mailto:aridiplomaatia@mfa.ee&quot;&gt;aridiplomaatia@mfa.ee&lt;/a&gt; Täpsem ajakava saadetakse osalejatele augustis.
SUMMARY:Välisministeeriumi ekspordiklubi
URL;VALUE=URI:https://financeestonia.eu/sundmus/valisministeeriumi-ekspordiklubi/
TRANSP:OPAQUE
BEGIN:VALARM
ACTION:DISPLAY
TRIGGER;TZID=Europe/Tallinn:20250825T173000
DESCRIPTION:Reminder for Välisministeeriumi ekspordiklubi
END:VALARM
END:VEVENT
END:VCALENDAR
