BEGIN:VCALENDAR
VERSION:2.0
PRODID:-//FinanceEstonia //NONSGML Events //EN
CALSCALE:GREGORIAN
X-WR-CALNAME:FinanceEstonia
BEGIN:VEVENT
CREATED:20250402T114720Z
UID:15516
DTEND;TZID=Europe/Tallinn:20250421T163000
DTSTART;TZID=Europe/Tallinn:20250421T150000
DTSTAMP;TZID=Europe/Tallinn:20260422T120838
LOCATION:Tuleva
DESCRIPTION:Arutelu töögrupi 2025 tööplaani teemadel.
SUMMARY:Kogumispensioni töögrupi koosolek
URL;VALUE=URI:https://financeestonia.eu/sundmus/kogumispensioni-toogrupi-koosolek-8/
TRANSP:OPAQUE
BEGIN:VALARM
ACTION:DISPLAY
TRIGGER;TZID=Europe/Tallinn:20250420T150000
DESCRIPTION:Reminder for Kogumispensioni töögrupi koosolek
END:VALARM
END:VEVENT
END:VCALENDAR
