BEGIN:VCALENDAR
VERSION:2.0
PRODID:-//FinanceEstonia //NONSGML Events //EN
CALSCALE:GREGORIAN
X-WR-CALNAME:FinanceEstonia
BEGIN:VEVENT
CREATED:20250128T140621Z
UID:15380
DTEND;TZID=Europe/Tallinn:20250212T153000
DTSTART;TZID=Europe/Tallinn:20250212T140000
DTSTAMP;TZID=Europe/Tallinn:20260422T124816
LOCATION:Finantsinspektsioon
DESCRIPTION:Kindlustuse töögrupi kohtumine Finantsinspektsiooniga. &lt;ul&gt; &lt;li&gt;FinanceEstonia kindlustuse töögrupi tutvustus ja eesmärgid&lt;/li&gt; &lt;li&gt;Päevakajalised teemad ja murekohad kindlustuse vallas&lt;/li&gt; &lt;/ul&gt;
SUMMARY:Kohtumine Finantsinspektsiooniga
URL;VALUE=URI:https://financeestonia.eu/sundmus/kohtumine-finantsinspektsiooniga-6/
TRANSP:OPAQUE
BEGIN:VALARM
ACTION:DISPLAY
TRIGGER;TZID=Europe/Tallinn:20250211T140000
DESCRIPTION:Reminder for Kohtumine Finantsinspektsiooniga
END:VALARM
END:VEVENT
END:VCALENDAR
