BEGIN:VCALENDAR
VERSION:2.0
PRODID:-//FinanceEstonia //NONSGML Events //EN
CALSCALE:GREGORIAN
X-WR-CALNAME:FinanceEstonia
BEGIN:VEVENT
CREATED:20241219T234024Z
UID:15274
DTEND;TZID=Europe/Tallinn:20250116T120000
DTSTART;TZID=Europe/Tallinn:20250116T110000
DTSTAMP;TZID=Europe/Tallinn:20260422T124923
LOCATION:Veebikohtumine
DESCRIPTION:Kohtumise eesmärk on koondada ravikindlustusega seonduvad võimalikud probleemkohad.
SUMMARY:Kindlustuse töögrupi koosolek
URL;VALUE=URI:https://financeestonia.eu/sundmus/kindlustuse-toogrupi-koosolek-5/
TRANSP:OPAQUE
BEGIN:VALARM
ACTION:DISPLAY
TRIGGER;TZID=Europe/Tallinn:20250115T110000
DESCRIPTION:Reminder for Kindlustuse töögrupi koosolek
END:VALARM
END:VEVENT
END:VCALENDAR
