BEGIN:VCALENDAR
VERSION:2.0
PRODID:-//FinanceEstonia //NONSGML Events //EN
CALSCALE:GREGORIAN
X-WR-CALNAME:FinanceEstonia
BEGIN:VEVENT
CREATED:20241215T235046Z
UID:15263
DTEND;TZID=Europe/Tallinn:20250115T170000
DTSTART;TZID=Europe/Tallinn:20250115T140000
DTSTAMP;TZID=Europe/Tallinn:20260422T120735
LOCATION:
DESCRIPTION:Teema: pettuste tõkestamine.
SUMMARY:Maksekeskkonna foorum
URL;VALUE=URI:https://financeestonia.eu/sundmus/maksekeskkonna-foorum-5/
TRANSP:OPAQUE
BEGIN:VALARM
ACTION:DISPLAY
TRIGGER;TZID=Europe/Tallinn:20250114T140000
DESCRIPTION:Reminder for Maksekeskkonna foorum
END:VALARM
END:VEVENT
END:VCALENDAR
