BEGIN:VCALENDAR
VERSION:2.0
PRODID:-//FinanceEstonia //NONSGML Events //EN
CALSCALE:GREGORIAN
X-WR-CALNAME:FinanceEstonia
BEGIN:VEVENT
CREATED:20241120T153426Z
UID:15215
DTEND;TZID=Europe/Tallinn:20241206T170000
DTSTART;TZID=Europe/Tallinn:20241206T153000
DTSTAMP;TZID=Europe/Tallinn:20260422T120838
LOCATION:Ministeeriumide ühishoone
DESCRIPTION:Majandus- ja kommunikatsiooniministeerium tutvustab &lt;strong&gt;majanduse konkurentsivõime tõstmise ja tööstuse elavdamise 2025. aasta tegevuskavaga seoses  &lt;/strong&gt;konkreetseid plaane ning soovib ühiselt ettevõtjatega arutada, kas tegevuste teravik on suunatud õigesse kohta.    
SUMMARY:MKM ettevõtjate ümarlaud
URL;VALUE=URI:https://financeestonia.eu/sundmus/mkm-ettevotjate-umarlaud-2/
TRANSP:OPAQUE
BEGIN:VALARM
ACTION:DISPLAY
TRIGGER;TZID=Europe/Tallinn:20241205T153000
DESCRIPTION:Reminder for MKM ettevõtjate ümarlaud
END:VALARM
END:VEVENT
END:VCALENDAR
