BEGIN:VCALENDAR
VERSION:2.0
PRODID:-//FinanceEstonia //NONSGML Events //EN
CALSCALE:GREGORIAN
X-WR-CALNAME:FinanceEstonia
BEGIN:VEVENT
CREATED:20240925T133255Z
UID:14931
DTEND;TZID=Europe/Tallinn:20240925T150000
DTSTART;TZID=Europe/Tallinn:20240925T130000
DTSTAMP;TZID=Europe/Tallinn:20260422T123415
LOCATION:Rahandusministeerium
DESCRIPTION:Pensionifondide tasude ja investeeringute analüüsi ja ettepanekute tutvustamine. Osalejad: Rahandusministeerium, Sotsiaalministeerium, Finantsinspektsioon, FinanceEstonia, pensionifondid.
SUMMARY:Kohtumine Rahandusministeeriumiga
URL;VALUE=URI:https://financeestonia.eu/sundmus/kohtumine-rahandusministeeriumiga-7/
TRANSP:OPAQUE
BEGIN:VALARM
ACTION:DISPLAY
TRIGGER;TZID=Europe/Tallinn:20240924T130000
DESCRIPTION:Reminder for Kohtumine Rahandusministeeriumiga
END:VALARM
END:VEVENT
END:VCALENDAR
