BEGIN:VCALENDAR
VERSION:2.0
PRODID:-//FinanceEstonia //NONSGML Events //EN
CALSCALE:GREGORIAN
X-WR-CALNAME:FinanceEstonia
BEGIN:VEVENT
CREATED:20240816T103201Z
UID:14890
DTEND;TZID=Europe/Tallinn:20240827T210000
DTSTART;TZID=Europe/Tallinn:20240827T173000
DTSTAMP;TZID=Europe/Tallinn:20260422T120751
LOCATION:Standardi showroom 
DESCRIPTION:Välisministeerium kutsub ettevõtjaid kohtumisele Eesti suursaadikutega, kes kogunevad traditsiooniliselt augusti lõpus Tallinnasse, et seada sihte uueks hooajaks. Suursaadikute äridiplomaatia kohtumine toimub &lt;strong&gt;teisipäeval,&lt;/strong&gt; &lt;strong&gt;27. augustil, kell 17:30 – 21:00 Standardi showroomis &lt;/strong&gt;(Veerenni 24, Tallinn).  Kavas on kiirkohtingu formaadis ettevõtjate kohtumised saadikutega ning hilisem omavaheline võrgustumine. Kohal on ka Ettevõtluse ja Innovatsiooni SA esindajad, kellega ettevõtetel on samuti võimalik suhelda. Kuna huvi saadikutega kohtumiseks on eelmistel sarnastel üritustel olnud väga suur, oodatakse ekspordiklubisse igast ettevõttest ühte esindajat.&lt;strong&gt; Registreerige ennast hiljemalt 19. augustiks &lt;a href=&quot;https://survey.mfa.ee/index.php/757466?lang=et&quot;&gt;SIIN&lt;/a&gt;.&lt;/strong&gt; Registreerumisel valige palun kuni kolm teie jaoks kõige olulisemat riiki (eksporditurgu), mille saadikutega soovite kohtuda. Teave teie eelistuste kohta võimaldab ekspordiklubi õhtut paremini ette valmistada. Võimalikest küsimustest andke palun märku aadressil &lt;a href=&quot;mailto:aridiplomaatia@mfa.ee&quot;&gt;aridiplomaatia@mfa.ee&lt;/a&gt;
SUMMARY:Välisministeeriumi ekspordiklubi – kohtumine suursaadikutega
URL;VALUE=URI:https://financeestonia.eu/sundmus/valisministeeriumi-ekspordiklubi-kohtumine-suursaadikutega/
TRANSP:OPAQUE
BEGIN:VALARM
ACTION:DISPLAY
TRIGGER;TZID=Europe/Tallinn:20240826T173000
DESCRIPTION:Reminder for Välisministeeriumi ekspordiklubi – kohtumine suursaadikutega
END:VALARM
END:VEVENT
END:VCALENDAR
