BEGIN:VCALENDAR
VERSION:2.0
PRODID:-//FinanceEstonia //NONSGML Events //EN
CALSCALE:GREGORIAN
X-WR-CALNAME:FinanceEstonia
BEGIN:VEVENT
CREATED:20240531T082336Z
UID:14843
DTEND;TZID=Europe/Tallinn:20240416T160000
DTSTART;TZID=Europe/Tallinn:20240416T140000
DTSTAMP;TZID=Europe/Tallinn:20260421T095421
LOCATION:Riigikogu rahanduskomisjon
DESCRIPTION:Teie organisatsiooni esindaja on oodatud rahanduskomisjoni 16. aprilli istungile &lt;a href=&quot;https://www.riigikogu.ee/tegevus/eelnoud/eelnou/03c5991e-7212-47d2-8663-0787ed0e9d1b/kruptovaraturu-seadus&quot;&gt;&lt;span style=&quot;color: #467886;&quot;&gt;&lt;b&gt;&lt;u&gt;krüptovaraturu &lt;/u&gt;&lt;/b&gt;&lt;/span&gt;&lt;span style=&quot;color: #467886;&quot;&gt;&lt;b&gt;&lt;u&gt;seaduse &lt;/u&gt;&lt;/b&gt;&lt;/span&gt;&lt;span style=&quot;color: #467886;&quot;&gt;&lt;b&gt;&lt;u&gt;eelnõu 398 SE&lt;/u&gt;&lt;/b&gt;&lt;/span&gt;&lt;/a&gt; arutelule.
SUMMARY:Rahanduskomisjoni istung krüptovaraturu seadus
URL;VALUE=URI:https://financeestonia.eu/sundmus/rahanduskomisjoni-istung-kruptovaraturu-seadus/
TRANSP:OPAQUE
BEGIN:VALARM
ACTION:DISPLAY
TRIGGER;TZID=Europe/Tallinn:20240415T140000
DESCRIPTION:Reminder for Rahanduskomisjoni istung krüptovaraturu seadus
END:VALARM
END:VEVENT
END:VCALENDAR
