BEGIN:VCALENDAR
VERSION:2.0
PRODID:-//FinanceEstonia //NONSGML Events //EN
CALSCALE:GREGORIAN
X-WR-CALNAME:FinanceEstonia
BEGIN:VEVENT
CREATED:20231227T173726Z
UID:14273
DTEND;TZID=Europe/Tallinn:20240124T130000
DTSTART;TZID=Europe/Tallinn:20240124T090000
DTSTAMP;TZID=Europe/Tallinn:20260422T124923
LOCATION:Mövenpick Hotell Tallinn
DESCRIPTION:&lt;table border=&quot;0&quot; width=&quot;600&quot; cellspacing=&quot;0&quot; cellpadding=&quot;0&quot;&gt; &lt;tbody&gt; &lt;tr&gt; &lt;td class=&quot;bodyContent&quot; valign=&quot;top&quot;&gt; &lt;table id=&quot;emailContent&quot; border=&quot;0&quot; width=&quot;600&quot; cellspacing=&quot;0&quot; cellpadding=&quot;10&quot; align=&quot;left&quot;&gt; &lt;tbody&gt; &lt;tr&gt; &lt;td&gt;&lt;strong&gt;KPMG kutsub osalema kolmel ESG-teemalisel seminaril, kus räägitakse teemadel ESG väärtusloomest kuni CSRD aruandluseni ning nendega seotud väljakutsetest ja võimalustest.    &lt;/strong&gt; &lt;strong&gt;II seminar: Tehnoloogia ja andmete roll ESG aruandluses, 24. jaanuar&lt;/strong&gt; kell 9-13 • ESG andmed ja aruandlus - väljakutsed ja soovitused nende ületamiseks • ESG andmete kogumise ja aruandluse automatiseerimine Seminar on &lt;span class=&quot;underline&quot;&gt;tasuta&lt;/span&gt;, kuid kohtade arv on piiratud ning &lt;span class=&quot;underline&quot;&gt;vajalik on registreerumine&lt;/span&gt;.&lt;/td&gt; &lt;/tr&gt; &lt;/tbody&gt; &lt;/table&gt; &lt;/td&gt; &lt;/tr&gt; &lt;/tbody&gt; &lt;/table&gt; &lt;table border=&quot;0&quot; width=&quot;100%&quot; cellspacing=&quot;0&quot; cellpadding=&quot;10px&quot;&gt; &lt;tbody&gt; &lt;tr&gt; &lt;td align=&quot;left&quot;&gt; &lt;table border=&quot;0&quot; width=&quot;150&quot; cellspacing=&quot;0&quot; cellpadding=&quot;10&quot;&gt; &lt;tbody&gt; &lt;tr&gt; &lt;td&gt;&lt;a href=&quot;https://insights.kpmg.com/e/974383/event-opkDV/555jv/237494488/h/Kbs_O8UbR6lKpbEmLHBz59gXTEr7wU-KN3Lg9NBFLKc&quot;&gt;Registreeru&lt;/a&gt;&lt;/td&gt; &lt;/tr&gt; &lt;/tbody&gt; &lt;/table&gt; &lt;/td&gt; &lt;/tr&gt; &lt;/tbody&gt; &lt;/table&gt;
SUMMARY:KPMG seminar: Tehnoloogia ja andmete roll ESG aruandluses
URL;VALUE=URI:https://financeestonia.eu/sundmus/kpmg-esg-seminar/
TRANSP:OPAQUE
BEGIN:VALARM
ACTION:DISPLAY
TRIGGER;TZID=Europe/Tallinn:20240123T090000
DESCRIPTION:Reminder for KPMG seminar: Tehnoloogia ja andmete roll ESG aruandluses
END:VALARM
END:VEVENT
END:VCALENDAR
