BEGIN:VCALENDAR
VERSION:2.0
PRODID:-//FinanceEstonia //NONSGML Events //EN
CALSCALE:GREGORIAN
X-WR-CALNAME:FinanceEstonia
BEGIN:VEVENT
CREATED:20231002T064212Z
UID:13730
DTEND;TZID=Europe/Tallinn:20231102T170000
DTSTART;TZID=Europe/Tallinn:20231102T150000
DTSTAMP;TZID=Europe/Tallinn:20260421T100759
LOCATION:Triniti advokaadibüroo, Maakri 19/21, 21. korrus
DESCRIPTION:Teemad: &lt;ul&gt; &lt;li&gt;Tegevused&lt;/li&gt; &lt;li&gt;Eesseisvad kohtumised ja üritused&lt;/li&gt; &lt;li&gt;Valdkondade ülevaade&lt;/li&gt; &lt;li&gt;Finantsseis&lt;/li&gt; &lt;li&gt;Liikmed&lt;/li&gt; &lt;li&gt;Veebileht&lt;/li&gt; &lt;li&gt;Seadusandlus&lt;/li&gt; &lt;/ul&gt;
SUMMARY:FE juhatuse koosolek
URL;VALUE=URI:https://financeestonia.eu/sundmus/fe-juhatuse-koosolek-53/
TRANSP:OPAQUE
BEGIN:VALARM
ACTION:DISPLAY
TRIGGER;TZID=Europe/Tallinn:20231101T150000
DESCRIPTION:Reminder for FE juhatuse koosolek
END:VALARM
END:VEVENT
END:VCALENDAR
