BEGIN:VCALENDAR
VERSION:2.0
PRODID:-//FinanceEstonia //NONSGML Events //EN
CALSCALE:GREGORIAN
X-WR-CALNAME:FinanceEstonia
BEGIN:VEVENT
CREATED:20221122T103658Z
UID:12552
DTEND;TZID=Europe/Tallinn:20260422T175133
DTSTART;TZID=Europe/Tallinn:20260422T175133
DTSTAMP;TZID=Europe/Tallinn:20260422T145133
LOCATION:
DESCRIPTION:FinanceEstonia tegevuse tutvustamine.
SUMMARY:Kohtumine Andmekaitse Inspektsiooniga
URL;VALUE=URI:https://financeestonia.eu/sundmus/kohtumine-andmekaitse-inspektsiooniga-2/
TRANSP:OPAQUE
BEGIN:VALARM
ACTION:DISPLAY
TRIGGER;TZID=Europe/Tallinn:19691231T000000
DESCRIPTION:Reminder for Kohtumine Andmekaitse Inspektsiooniga
END:VALARM
END:VEVENT
END:VCALENDAR
