BEGIN:VCALENDAR
VERSION:2.0
PRODID:-//FinanceEstonia //NONSGML Events //EN
CALSCALE:GREGORIAN
X-WR-CALNAME:FinanceEstonia
BEGIN:VEVENT
CREATED:20220929T182911Z
UID:12412
DTEND;TZID=Europe/Tallinn:20260421T113643
DTSTART;TZID=Europe/Tallinn:20260421T113643
DTSTAMP;TZID=Europe/Tallinn:20260421T083643
LOCATION:
DESCRIPTION:FinanceEstonia strateegia arutelu.
SUMMARY:FE juhatuse koosolek
URL;VALUE=URI:https://financeestonia.eu/sundmus/fe-juhatuse-koosolek-44/
TRANSP:OPAQUE
BEGIN:VALARM
ACTION:DISPLAY
TRIGGER;TZID=Europe/Tallinn:19691231T000000
DESCRIPTION:Reminder for FE juhatuse koosolek
END:VALARM
END:VEVENT
END:VCALENDAR
