BEGIN:VCALENDAR
VERSION:2.0
PRODID:-//FinanceEstonia //NONSGML Events //EN
CALSCALE:GREGORIAN
X-WR-CALNAME:FinanceEstonia
BEGIN:VEVENT
CREATED:20220606T140336Z
UID:12235
DTEND;TZID=Europe/Tallinn:20260423T130342
DTSTART;TZID=Europe/Tallinn:20260423T130342
DTSTAMP;TZID=Europe/Tallinn:20260423T100342
LOCATION:
DESCRIPTION:&lt;div class=&quot;&quot;&gt;9. juunil kell 10:00-11:30 toimub Zoomi vahendusel infotund rahapesu ja terrorismi rahastamise tõkestamise seaduse muudatustest ja teatamiskohustuse täitmisest virtuaalvääringu teenuse pakkujatele.&lt;br class=&quot;&quot; /&gt;&lt;br class=&quot;&quot; /&gt;&lt;/div&gt;
&lt;div class=&quot;&quot;&gt;Infotunnis:&lt;br class=&quot;&quot; /&gt;
&lt;div class=&quot;&quot;&gt;• pühendutakse peatselt jõustuvatele RahaPTS muudatustele;&lt;/div&gt;
&lt;div class=&quot;&quot;&gt;• antakse ülevaade teatamiskohustusest virtuaalvääringu teenuse pakkuja vaatenurgast.&lt;/div&gt;
&lt;div class=&quot;&quot;&gt;&lt;/div&gt;
Selleks, et infotund oleks kuulajate jaoks sisukam, palutakse küsimused esimesel võimalusel ette saata aadressile &lt;a class=&quot;&quot; href=&quot;mailto:koolitused@fiu.ee&quot;&gt;koolitused@fiu.ee&lt;/a&gt;.&lt;/div&gt;
&lt;div class=&quot;&quot;&gt;Küsimuste esitamisel tasub silmas pidada, et küsimused sobiksid käsitlemiseks laiema osalejaskonna ees.&lt;/div&gt;
&lt;div class=&quot;&quot;&gt;&lt;br class=&quot;&quot; /&gt;Infotund on tasuta ja viiakse läbi eesti keeles.&lt;br class=&quot;&quot; /&gt;&lt;br class=&quot;&quot; /&gt;Osalemiseks tuleb registreeruda Zoomi vahendusel &lt;a class=&quot;&quot; href=&quot;https://us02web.zoom.us/webinar/register/WN_kOHC9JrSRqyhAQ40akOVlA&quot;&gt;siin&lt;/a&gt;.&lt;br class=&quot;&quot; /&gt;&lt;br class=&quot;&quot; /&gt;Registreerumise järel saadetakse teile automaatselt personaalne link osalemiseks. Kui link teieni ei jõua, palun võtke ühendust: &lt;a class=&quot;&quot; href=&quot;mailto:koolitused@fiu.ee&quot;&gt;koolitused@fiu.ee&lt;/a&gt;&lt;br class=&quot;&quot; /&gt;&lt;br class=&quot;&quot; /&gt;Lisaks soovitatakse eelnevalt tutvuda Rahapesu Andmebüroo veebilehel värskelt uuendatud alamlehega &lt;a class=&quot;&quot; href=&quot;https://fiu.ee/tegevusluba-ja-jarelevalve/virtuaalvaaringu-teenus/tegevusluba&quot;&gt;Tegevusluba ja järelevalve&lt;/a&gt;.
&lt;div class=&quot;&quot;&gt;&lt;/div&gt;
&lt;div class=&quot;&quot;&gt;&lt;br class=&quot;&quot; /&gt;
&lt;div class=&quot;&quot;&gt;&lt;/div&gt;
&lt;/div&gt;
&lt;/div&gt;
SUMMARY:RAB infotund virtuaalvääringu teenuse pakkujatele seadusemuudatustest
URL;VALUE=URI:https://financeestonia.eu/sundmus/rab-infotund-virtuaalvaaringu-teenuse-pakkujatele-seadusemuudatustest/
TRANSP:OPAQUE
BEGIN:VALARM
ACTION:DISPLAY
TRIGGER;TZID=Europe/Tallinn:19691231T000000
DESCRIPTION:Reminder for RAB infotund virtuaalvääringu teenuse pakkujatele seadusemuudatustest
END:VALARM
END:VEVENT
END:VCALENDAR
