BEGIN:VCALENDAR
VERSION:2.0
PRODID:-//FinanceEstonia //NONSGML Events //EN
CALSCALE:GREGORIAN
X-WR-CALNAME:FinanceEstonia
BEGIN:VEVENT
CREATED:20220317T100520Z
UID:11945
DTEND;TZID=Europe/Tallinn:20260422T141444
DTSTART;TZID=Europe/Tallinn:20260422T141444
DTSTAMP;TZID=Europe/Tallinn:20260422T111444
LOCATION:
DESCRIPTION:&lt;div class=&quot;page&quot; title=&quot;Page 1&quot;&gt;
&lt;div class=&quot;layoutArea&quot;&gt;
&lt;div class=&quot;column&quot;&gt; Aeg: 10. juuni 2022 kell 9:00-12:00 Koht: Ministeeriumide ühishoone (Suur-Ameerika tn 1, ruum Kirsipuu). Soovijail on võimalik osaleda ka veebi kaudu. Päevakord
&lt;ol&gt; &lt;li&gt;Sissejuhatus ja päevakorra kinnitamine&lt;/li&gt; &lt;li&gt;Valmisolek hädaolukorras maksete tegemiseksEesti Pank&lt;/li&gt; &lt;li&gt;Maksekeskkonna digitaliseerimise töögrupi arengudEesti Pank jtFüüsilised müügikohad Uus nutitelefonil põhinev kaardimakseterminali lahendus (Nets Estonia)
SEPA Request-to-Pay raha küsimise skeemi kasutuselevõtu analüüs (Pangaliit) Euroopa e-kviitungi standard (Eesti Infotehnoloogia- ja Telekommunikatsiooni Liit) Elektroonilised müügikohad E-kaubanduse makselahenduste kasutajamugavuse suurendamine (EveryPay) Väljaspool müügikohti E-arve lahenduse edasiarendamine (Eesti Infotehnoloogia- ja Telekommunikatsiooni Liit) E-arve arenduse toetusmeede (Majandus- ja Kommunikatsiooniministeerium)&lt;/li&gt; &lt;li&gt;Väikekaupmeeste uuringu ülevaade Eesti Pank&lt;/li&gt; &lt;li&gt;Muud teemad&lt;/li&gt;
&lt;/ol&gt;
&lt;/div&gt;
&lt;/div&gt;
&lt;/div&gt;
SUMMARY:Eesti Panga Maksekeskkonna Foorum
URL;VALUE=URI:https://financeestonia.eu/sundmus/eesti-panga-maksekeskkonna-foorum/
TRANSP:OPAQUE
BEGIN:VALARM
ACTION:DISPLAY
TRIGGER;TZID=Europe/Tallinn:19691231T000000
DESCRIPTION:Reminder for Eesti Panga Maksekeskkonna Foorum
END:VALARM
END:VEVENT
END:VCALENDAR
